BEGIN:VCALENDAR
PRODID:NingEventWidget-v1
VERSION:2.0
METHOD:PUBLISH
BEGIN:VTIMEZONE
TZID:Pacific/Midway
X-LIC-LOCATION:Pacific/Midway
BEGIN:STANDARD
TZOFFSETFROM:-1100
TZOFFSETTO:-1100
TZNAME:SST
DTSTART:19700101T000000
END:STANDARD
END:VTIMEZONE
BEGIN:VEVENT
UID:5072275:Event:1027991
DTSTAMP:20260423T002921Z
SUMMARY:Kick the Tires Bike Nite Social Meeting at Sandollar Motorcycl
 e Club
DESCRIPTION:Kick the Tires Bike Nite Social Meeting at Sandollar Motor
 cycle Club. We also have weekly \"kick-the-tires\" club social meeting
 s on any Tuesday night after the first week of the month starting 6 PM
 . Anyone with a valid motorcycle license and a street legal two or thr
 ee wheeled conveyance, that can do highway speeds, is encouraged to jo
 in our club.We are very safety conscious. Anyone riding with us has to
  wear a motorcycle helmet and no alcohol is allowed on our ride. Sched
 ule subject to change. Meeting end time may change.\n\nFor more inform
 ation visit https://www.southeastwheelsevents.com/events/kick-the-tire
 s-bike-nite-social-meeting-at-sandollar-motorcycle-1
DTSTART;TZID=Pacific/Midway:20170131T180000
DTEND;TZID=Pacific/Midway:20170131T210000
CATEGORIES:promo
LOCATION:Joe & Eddies Family Restaurant
WEBSITE:http://sandollarmotorcycleclub.com/
URL:http://sandollarmotorcycleclub.com/
CONTACT:
ORGANIZER:Sandollar Motorcycle Club
ATTACH;FMTTYPE="image/jpeg":http://storage.ning.com/topology/rest/1.0/
 file/get/967726354?profile=original
ATTENDEE;ROLE=REQ-PARTICIPANT;PARTSTAT=ACCEPTED;RSVP=TRUE;CN="Christop
 her Gosney":https://www.southeastwheelsevents.com/profile/ChristopherG
 osney
END:VEVENT
END:VCALENDAR
