BEGIN:VCALENDAR
PRODID:NingEventWidget-v1
VERSION:2.0
METHOD:PUBLISH
BEGIN:VTIMEZONE
TZID:Pacific/Midway
X-LIC-LOCATION:Pacific/Midway
BEGIN:STANDARD
TZOFFSETFROM:-1100
TZOFFSETTO:-1100
TZNAME:SST
DTSTART:19700101T000000
END:STANDARD
END:VTIMEZONE
BEGIN:VEVENT
UID:5072275:Event:1274875
DTSTAMP:20260419T070750Z
SUMMARY:Kiirkasiinod
DESCRIPTION:Kiirkasiinod https://kiirkasiinod.net (ehk Pay’n’Play
  kasiinod) on 2026. aastal Eestis üks populaarsemaid online-hasartmä
 ngude vorme, sest need võimaldavad mängida ilma eraldi registreerimi
 seta ning alustada vaid mõne minutiga internetipanga kaudu. Mängijad
  saavad teha sissemakse, mängida ja võtta võidud välja kiiresti, s
 ageli mõne minutiga, kasutades lahendusi nagu Trustly, Brite või Zim
 pler.\n\nFor more information visit https://www.southeastwheelsevents.
 com/events/kiirkasiinod
DTSTART;TZID=Pacific/Midway:20260419T180000
DTEND;TZID=Pacific/Midway:20270416T190000
CATEGORIES:kiirkasiinod
LOCATION:Berbin, Germany
WEBSITE:
URL:
CONTACT:0896495843
ORGANIZER;CN="Jean Parcks":https://www.southeastwheelsevents.com/profi
 le/JeanParcks
ATTACH;FMTTYPE="image/jpeg":
ATTENDEE;ROLE=REQ-PARTICIPANT;PARTSTAT=ACCEPTED;RSVP=TRUE;CN="Jean Par
 cks":https://www.southeastwheelsevents.com/profile/JeanParcks
END:VEVENT
END:VCALENDAR
