BEGIN:VCALENDAR
PRODID:NingEventWidget-v1
VERSION:2.0
METHOD:PUBLISH
BEGIN:VTIMEZONE
TZID:Pacific/Midway
X-LIC-LOCATION:Pacific/Midway
BEGIN:STANDARD
TZOFFSETFROM:-1100
TZOFFSETTO:-1100
TZNAME:SST
DTSTART:19700101T000000
END:STANDARD
END:VTIMEZONE
BEGIN:VEVENT
UID:5072275:Event:85552
DTSTAMP:20260419T090839Z
SUMMARY:Killer Creek H-D Swap Meet -Roswell, GA
DESCRIPTION:Come to Killer Creek Harley-Davidson for a full day’s ac
 tivities: Swap Meet, Sidewalk Sale, and This Is How We Do It. Swap Mee
 t 10am-4pm. Vendors and individuals welcome. Vendor registration requi
 red. For vendor prices, email mharris@killercreekharley.com. Sidewalk 
 Sale- great prices on MotorClothes® Apparel and Merchandise and Parts
  & Accessories. This Is How We Do It Technician Demonstration at 11:00
 am. Come see how our PhD Certified technicians work in this hands-on q
 uestion and answer session held on the showroom floor. Topic: Winteriz
 ing your bike. Demonstration held the second Saturday of each month. L
 ifeSouth will be here doing a blood drive 10am-4pm; all blood types ne
 eded. Killer Creek Harley-Davidson is located at 11480 Alpharetta High
 way, Roswell. FMI call 770.777.1000 or visit www.killercreekharley.com
 .\n\nFor more information visit https://www.southeastwheelsevents.com/
 events/killer-creek-hd-swap-meet
DTSTART;TZID=Pacific/Midway:20101009T100000
DTEND;TZID=Pacific/Midway:20101009T160000
CATEGORIES:swap, meet
LOCATION:Killer Creek Harley-Davidson
WEBSITE:http://www.killercreekharley.com
URL:http://www.killercreekharley.com
CONTACT:7707771000
ORGANIZER;CN="Ari Bromley":https://www.southeastwheelsevents.com/profi
 le/MandiHarris
ATTACH;FMTTYPE="image/jpeg":
ATTENDEE;ROLE=REQ-PARTICIPANT;PARTSTAT=ACCEPTED;RSVP=TRUE;CN="Ari Brom
 ley":https://www.southeastwheelsevents.com/profile/MandiHarris
END:VEVENT
END:VCALENDAR
