BEGIN:VCALENDAR
PRODID:NingEventWidget-v1
VERSION:2.0
METHOD:PUBLISH
BEGIN:VTIMEZONE
TZID:Pacific/Midway
X-LIC-LOCATION:Pacific/Midway
BEGIN:STANDARD
TZOFFSETFROM:-1100
TZOFFSETTO:-1100
TZNAME:SST
DTSTART:19700101T000000
END:STANDARD
END:VTIMEZONE
BEGIN:VEVENT
UID:5072275:Event:1274879
DTSTAMP:20260419T071623Z
SUMMARY:Kingdom Casino DK – Online Casino til Danske Spillere i 2026
DESCRIPTION:Kingdom Casino https://kingdomcasinodk.com er et moderne
  online casino rettet mod danske spillere, som tilbyder en komplet spi
 loplevelse med både spilleautomater, bordspil og live casino. Platfor
 men er kendt for sit royale tema, brugervenlige design og fokus på at
  levere en underholdende og sikker spilleoplevelse for både nye og er
 farne spillere.\n\n\n\n\nI 2026 fremstår Kingdom Casino som en af de 
 mere populære internationale casino-platforme i Danmark, med et stort
  spiludvalg på over 2.500–4.500 spil fra førende softwareudviklere
  som NetEnt, Microgaming og Pragmatic Play. Spillene inkluderer klassi
 ske slots, jackpot-spil, roulette, blackjack og avancerede live dealer
 -oplevelser.\nCasinoet tilbyder også attraktive bonusser, som typisk 
 inkluderer velkomstpakker, gratis spins, cashback og løbende kampagne
 r til aktive spillere. Derudover har platformen fokus på hurtige og s
 ikre betalinger samt understøttelse af moderne betalingsmetoder, hvil
 ket gør ind- og udbetalinger nemmere for brugerne.\nKingdom Casino er
  designet til både desktop og mobil, så spillere kan få adgang til 
 deres yndlingsspil når som helst og hvor som helst. Samtidig lægges 
 der vægt på ansvarligt spil og sikkerhed, så brugerne kan spille un
 der kontrollerede forhold.\nSamlet set er Kingdom Casino DK i 2026 en 
 alsidig online spilleplatform, der kombinerer et stort spilbibliotek, 
 stærke bonusser og moderne teknologi, hvilket gør den attraktiv for 
 danske online spillere.\n\nFor more information visit https://www.sout
 heastwheelsevents.com/events/kingdom-casino-dk-online-casino-til-dansk
 e-spillere-i-2026
DTSTART;TZID=Pacific/Midway:20260419T180000
DTEND;TZID=Pacific/Midway:20260716T190000
CATEGORIES:kingdom, casino
LOCATION:Berbin, Germany
WEBSITE:
URL:
CONTACT:0896495843
ORGANIZER;CN="Jean Parcks":https://www.southeastwheelsevents.com/profi
 le/JeanParcks
ATTACH;FMTTYPE="image/jpeg":
ATTENDEE;ROLE=REQ-PARTICIPANT;PARTSTAT=ACCEPTED;RSVP=TRUE;CN="Jean Par
 cks":https://www.southeastwheelsevents.com/profile/JeanParcks
END:VEVENT
END:VCALENDAR
