BEGIN:VCALENDAR
PRODID:NingEventWidget-v1
VERSION:2.0
METHOD:PUBLISH
BEGIN:VTIMEZONE
TZID:Pacific/Midway
X-LIC-LOCATION:Pacific/Midway
BEGIN:STANDARD
TZOFFSETFROM:-1100
TZOFFSETTO:-1100
TZNAME:SST
DTSTART:19700101T000000
END:STANDARD
END:VTIMEZONE
BEGIN:VEVENT
UID:5072275:Event:579526
DTSTAMP:20260424T152514Z
SUMMARY:Kingstree Pig Pickin' Festival Car Show -Kingstree, SC
DESCRIPTION:A 24-class car, truck and motorcycle/trike car show hosted
  by the Palmetto Cruisers Car Club of Florence, SC  and dedicated to 
 the memory of fellow Palmetto Cruiser Mr. Joseph Daniel \"J.D.\" Britt
 on, Sr. The show is a part of the Annual Bi-Lo Kingstree Pig Pickin' 
 Festival.\n\nFor more information visit https://www.southeastwheelseve
 nts.com/events/kingstree-pig-pickin-festival-car-show
DTSTART;TZID=Pacific/Midway:20131019T000000
DTEND;TZID=Pacific/Midway:20131019T235900
CATEGORIES:car, show
LOCATION:Pee Dee Footcare Parking Lot
WEBSITE:http://www.palmettocruisers.org/images/PC_Flyer_Pig_Pickin_201
 21022.gif
URL:http://www.palmettocruisers.org/images/PC_Flyer_Pig_Pickin_2012102
 2.gif
CONTACT:843-621-1946
ORGANIZER:Davy McClary
ATTACH;FMTTYPE="image/jpeg":
ATTENDEE;ROLE=REQ-PARTICIPANT;PARTSTAT=ACCEPTED;RSVP=TRUE;CN="Robert L
 iger":https://www.southeastwheelsevents.com/profile/RobertLiger
END:VEVENT
END:VCALENDAR
