BEGIN:VCALENDAR
PRODID:NingEventWidget-v1
VERSION:2.0
METHOD:PUBLISH
BEGIN:VTIMEZONE
TZID:Pacific/Midway
X-LIC-LOCATION:Pacific/Midway
BEGIN:STANDARD
TZOFFSETFROM:-1100
TZOFFSETTO:-1100
TZNAME:SST
DTSTART:19700101T000000
END:STANDARD
END:VTIMEZONE
BEGIN:VEVENT
UID:5072275:Event:997188
DTSTAMP:20260422T122907Z
SUMMARY:Kinser Park Car Show -Greeneville, TN
DESCRIPTION:Kinser Park Car Show -Greeneville, TN\n\nFor more informat
 ion visit https://www.southeastwheelsevents.com/events/kinser-park-car
 -show-greeneville-tn
DTSTART;TZID=Pacific/Midway:20160730T100000
DTEND;TZID=Pacific/Midway:20160730T160000
CATEGORIES:car-show, cruise-in
LOCATION:Kinser Park
WEBSITE:
URL:
CONTACT:423-639-5912, 423-639-4442
ORGANIZER:Tony Bible
ATTACH;FMTTYPE="image/jpeg":http://storage.ning.com/topology/rest/1.0/
 file/get/967710264?profile=original
ATTENDEE;ROLE=REQ-PARTICIPANT;PARTSTAT=ACCEPTED;RSVP=TRUE;CN="Chuck Aa
 ron":https://www.southeastwheelsevents.com/profile/ChuckAaron
END:VEVENT
END:VCALENDAR
