BEGIN:VCALENDAR
PRODID:NingEventWidget-v1
VERSION:2.0
METHOD:PUBLISH
BEGIN:VTIMEZONE
TZID:Pacific/Midway
X-LIC-LOCATION:Pacific/Midway
BEGIN:STANDARD
TZOFFSETFROM:-1100
TZOFFSETTO:-1100
TZNAME:SST
DTSTART:19700101T000000
END:STANDARD
END:VTIMEZONE
BEGIN:VEVENT
UID:5072275:Event:728628
DTSTAMP:20260423T145809Z
SUMMARY:Knights of Columbus 4th Annual Fall Car Show -Aiken, SC
DESCRIPTION:Knights of Columbus 4th Annual Fall Car Show \n2014 Event 
 info:   Event Date: October 11, 2014 Event Name: Knights of Columbus 
 4th Annual Fall Car Show Event Location: 150 Fairfield St. SE, Between
  Richland AVE. E and Park AVE. SE\nEnter Show from Park Ave SE. onto F
 airfield St.  Event City: Aiken Event State: South Carolina, 29803 Eve
 nt Hours: 9:00 AM to 3:00 PM Registration:  8:00 AM to 12:00 PM Troph
 ies to the Top 40: Best of Show 1st  2nd  3rd  4th  5th  and Fath
 er’s Choice Award Dash Plaques to the first 75 to Register Event Fee
 s: $20.00 Pre-Registered, or Pay $25.00 at Show\nWeb Site:  http://ca
 rolinathunderracing.com/Car_Show.php\nContact: John R Shea\nPhone:  8
 03-663-1777\nE-mail: aero_aviation@bellsouth.net\n\nFor more informati
 on visit https://www.southeastwheelsevents.com/events/knights-of-colum
 bus-4th-annual-fall-car-show-1
DTSTART;TZID=Pacific/Midway:20141011T080000
DTEND;TZID=Pacific/Midway:20141011T153000
CATEGORIES:fundraiser
LOCATION:Downtown Aiken, SC
WEBSITE:http://carolinathunderracing.com/Car_Show.php
URL:http://carolinathunderracing.com/Car_Show.php
CONTACT:803-663-1777
ORGANIZER;CN="John Shea":https://www.southeastwheelsevents.com/profile
 /JohnShea
ATTACH;FMTTYPE="image/jpeg":http://storage.ning.com/topology/rest/1.0/
 file/get/967653352?profile=original
ATTENDEE;ROLE=REQ-PARTICIPANT;PARTSTAT=ACCEPTED;RSVP=TRUE;CN="John She
 a":https://www.southeastwheelsevents.com/profile/JohnShea
END:VEVENT
END:VCALENDAR
