BEGIN:VCALENDAR
PRODID:NingEventWidget-v1
VERSION:2.0
METHOD:PUBLISH
BEGIN:VTIMEZONE
TZID:Pacific/Midway
X-LIC-LOCATION:Pacific/Midway
BEGIN:STANDARD
TZOFFSETFROM:-1100
TZOFFSETTO:-1100
TZNAME:SST
DTSTART:19700101T000000
END:STANDARD
END:VTIMEZONE
BEGIN:VEVENT
UID:5072275:Event:1031214
DTSTAMP:20260423T143123Z
SUMMARY:Knights of Columbus 7th Annual Fall Car Show -Aiken, SC
DESCRIPTION:Knights of Columbus 7th Annual Fall Car Show\r\n 2017 Even
 t info:\r\nFree to Spectators\r\n Event Date: November 25, 2017 Event 
 Name: Knights of Columbus 7th Annual Fall Car Show Event Location: 150
  Fairfield St. SE, Between Richland AVE. E and Park AVE. SE\r\nEnter S
 how from Park Ave SE. onto Fairfield St.  Event City: Aiken Event Stat
 e: South Carolina, 29803 Event Hours: 8:00 AM to 3:00 PM Registration:
   8:00 AM to 12:00 PM Trophies to the Top 40: Best of Show 1st  2nd 
  3rd  4th  5th  and Father’s Choice Award Dash Plaques to the fi
 rst 75 to Register Event Fees: $20.00 Pre-Registered, or Pay $25.00 at
  Show\r\nWeb Site:  http://carolinathunderracing.com/Car_Show.php\r\n
 Contact: John R Shea, 462 Cessna Dr,  Trenton,  SC,  29847\r\nPhone
 :  803-663-1777\r\nE-mail: aero_aviation@bellsouth.net\r\n\n\nFor mor
 e information visit https://www.southeastwheelsevents.com/events/knigh
 ts-of-columbus-7th-annual-fall-car-show
DTSTART;TZID=Pacific/Midway:20171125T080000
DTEND;TZID=Pacific/Midway:20171125T150000
CATEGORIES:car, show
LOCATION:St Mary Catholic Church
WEBSITE:http://carolinathunderracing.com/Car_Show.php
URL:http://carolinathunderracing.com/Car_Show.php
CONTACT:803-663-1777
ORGANIZER;CN="John Shea":https://www.southeastwheelsevents.com/profile
 /JohnShea
ATTACH;FMTTYPE="image/jpeg":http://storage.ning.com/topology/rest/1.0/
 file/get/2631748712?profile=original
ATTENDEE;ROLE=REQ-PARTICIPANT;PARTSTAT=ACCEPTED;RSVP=TRUE;CN="John She
 a":https://www.southeastwheelsevents.com/profile/JohnShea
ATTENDEE;ROLE=REQ-PARTICIPANT;PARTSTAT=ACCEPTED;RSVP=TRUE;CN="Al Gepha
 rt":https://www.southeastwheelsevents.com/profile/AlGephart
END:VEVENT
END:VCALENDAR
