BEGIN:VCALENDAR
PRODID:NingEventWidget-v1
VERSION:2.0
METHOD:PUBLISH
BEGIN:VTIMEZONE
TZID:Pacific/Midway
X-LIC-LOCATION:Pacific/Midway
BEGIN:STANDARD
TZOFFSETFROM:-1100
TZOFFSETTO:-1100
TZNAME:SST
DTSTART:19700101T000000
END:STANDARD
END:VTIMEZONE
BEGIN:VEVENT
UID:5072275:Event:258120
DTSTAMP:20260420T071704Z
SUMMARY:Knoxville Area Corvair Club 30th Anniversary Get Together
DESCRIPTION:﻿﻿﻿30th Anniversay Get Togehter.﻿ No show or troph
 ys, just Corvair enthusiasts sharing and showing their cars. At 3:00, 
 we will depart from Wal-mart and caravan to Joe Nuebert Collision Cen
 ter Cruise-in at Clinton Hwy and Merchants Drive. There are restraunt
 s within walking distance to Walmart < bring lawn chairs and plenty of
  Corvair stories!\n\nFor more information visit https://www.southeastw
 heelsevents.com/events/knoxville-area-corvair-club
DTSTART;TZID=Pacific/Midway:20110528T000000
DTEND;TZID=Pacific/Midway:20110528T235900
CATEGORIES:social
LOCATION:Walmart
WEBSITE:
URL:
CONTACT:(865) 924-8131
ORGANIZER:
ATTACH;FMTTYPE="image/jpeg":
ATTENDEE;ROLE=REQ-PARTICIPANT;PARTSTAT=ACCEPTED;RSVP=TRUE;CN="Richard 
 Payne":https://www.southeastwheelsevents.com/profile/RichardPayne
END:VEVENT
END:VCALENDAR
