BEGIN:VCALENDAR
PRODID:NingEventWidget-v1
VERSION:2.0
METHOD:PUBLISH
BEGIN:VTIMEZONE
TZID:Pacific/Midway
X-LIC-LOCATION:Pacific/Midway
BEGIN:STANDARD
TZOFFSETFROM:-1100
TZOFFSETTO:-1100
TZNAME:SST
DTSTART:19700101T000000
END:STANDARD
END:VTIMEZONE
BEGIN:VEVENT
UID:5072275:Event:774819
DTSTAMP:20260422T222843Z
SUMMARY:\"Kruisin for Kittens\"  Macon Mall by the Smokin' Pig -Macon,
  GA
DESCRIPTION:2nd Annual Spring Super Cruise In  \"Kruisin for Kittens\
 "\n                  Open to all vehicles\n        
           May 24th     9  till 3\nThis will be at the Macon 
 Mall in Macon Ga, by the Smokin Pig. 50/50 drawing, and music. $10 don
 ation to the Purrs and Paws rescue group.  \"WEATHER PERMITTING\"\n\n
 For more information visit https://www.southeastwheelsevents.com/event
 s/kruisin-for-kittens-macon-mall-by-the-smokin-pig
DTSTART;TZID=Pacific/Midway:20140524T100000
DTEND;TZID=Pacific/Midway:20140524T140000
CATEGORIES:super, cruise, in, fundraiser
LOCATION:Macon Mall
WEBSITE:
URL:
CONTACT:478-922-6383   /    478-957-4608
ORGANIZER:Ricky Goulding  / Robert Reddish
ATTACH;FMTTYPE="image/jpeg":
ATTENDEE;ROLE=REQ-PARTICIPANT;PARTSTAT=ACCEPTED;RSVP=TRUE;CN="Ricky Go
 ulding":https://www.southeastwheelsevents.com/profile/RickyGoulding
END:VEVENT
END:VCALENDAR
