BEGIN:VCALENDAR
PRODID:NingEventWidget-v1
VERSION:2.0
METHOD:PUBLISH
BEGIN:VTIMEZONE
TZID:Pacific/Midway
X-LIC-LOCATION:Pacific/Midway
BEGIN:STANDARD
TZOFFSETFROM:-1100
TZOFFSETTO:-1100
TZNAME:SST
DTSTART:19700101T000000
END:STANDARD
END:VTIMEZONE
BEGIN:VEVENT
UID:5072275:Event:1269829
DTSTAMP:20260419T051840Z
SUMMARY:Labor Day Car Show -Dawsonville, GA
DESCRIPTION:\n\nFor more information visit https://www.southeastwheels
 events.com/events/labor-day-car-show-dawsonville-ga
DTSTART;TZID=Pacific/Midway:20250829T160000
DTEND;TZID=Pacific/Midway:20250829T210000
CATEGORIES:labor, day, car, show, george, racing, hall, of, fame, daws
 onville
LOCATION:Georgia, Racing Hall Of Fame
WEBSITE:
URL:
CONTACT:
ORGANIZER:Georgia, Racing Hall Of Fame
ATTACH;FMTTYPE="image/jpeg":https://storage.ning.com/topology/rest/1.0
 /file/get/13697986072?profile=original
ATTENDEE;ROLE=REQ-PARTICIPANT;PARTSTAT=ACCEPTED;RSVP=TRUE;CN="Chuck Aa
 ron":https://www.southeastwheelsevents.com/profile/ChuckAaron886
END:VEVENT
END:VCALENDAR
