BEGIN:VCALENDAR
PRODID:NingEventWidget-v1
VERSION:2.0
METHOD:PUBLISH
BEGIN:VTIMEZONE
TZID:Pacific/Midway
X-LIC-LOCATION:Pacific/Midway
BEGIN:STANDARD
TZOFFSETFROM:-1100
TZOFFSETTO:-1100
TZNAME:SST
DTSTART:19700101T000000
END:STANDARD
END:VTIMEZONE
BEGIN:VEVENT
UID:5072275:Event:1101853
DTSTAMP:20260420T062522Z
SUMMARY:Lafayette Regional Airport Fly In and Cruise In - Lafayette, G
 a
DESCRIPTION:Lafayette Regional Airport Fly In and Cruise In.\n\nFor mo
 re information visit https://www.southeastwheelsevents.com/events/lafa
 yette-regional-airport-fly-in-and-cruise-in-lafayette-ga
DTSTART;TZID=Pacific/Midway:20180922T100000
DTEND;TZID=Pacific/Midway:20180922T160000
CATEGORIES:car, show, cruise, in
LOCATION:Barwick La Fayette Airport-9A5
WEBSITE:https://www.google.co.in/maps/place/Barwick+La+Fayette+Airport
 -9A5/@34.6847207,-85.2922903,17z/data=!4m13!1m7!3m6!1s0x88603e08065beb
 0b:0xcff77c3277f2c317!2s141+Gasque+Dr,+LaFayette,+GA+30728,+USA!3b1!8m
 2!3d34.6837321!4d-85.2827028!3m4!1s0x88603e0b78ee588f:0xc7e18dff06ff72
 7e!8m2!3d34.6847207!4d-85.2901016
URL:https://www.google.co.in/maps/place/Barwick+La+Fayette+Airport-9A5
 /@34.6847207,-85.2922903,17z/data=!4m13!1m7!3m6!1s0x88603e08065beb0b:0
 xcff77c3277f2c317!2s141+Gasque+Dr,+LaFayette,+GA+30728,+USA!3b1!8m2!3d
 34.6837321!4d-85.2827028!3m4!1s0x88603e0b78ee588f:0xc7e18dff06ff727e!8
 m2!3d34.6847207!4d-85.2901016
CONTACT:706-638-7071
ORGANIZER:Vernon Barnett
ATTACH;FMTTYPE="image/jpeg":http://storage.ning.com/topology/rest/1.0/
 file/get/967798612?profile=original
ATTENDEE;ROLE=REQ-PARTICIPANT;PARTSTAT=ACCEPTED;RSVP=TRUE;CN="Anthony 
 Hopkins":https://www.southeastwheelsevents.com/profile/AnthonyHopkins
END:VEVENT
END:VCALENDAR
