BEGIN:VCALENDAR
PRODID:NingEventWidget-v1
VERSION:2.0
METHOD:PUBLISH
BEGIN:VTIMEZONE
TZID:Pacific/Midway
X-LIC-LOCATION:Pacific/Midway
BEGIN:STANDARD
TZOFFSETFROM:-1100
TZOFFSETTO:-1100
TZNAME:SST
DTSTART:19700101T000000
END:STANDARD
END:VTIMEZONE
BEGIN:VEVENT
UID:5072275:Event:586383
DTSTAMP:20260424T152714Z
SUMMARY:LaGrange Shrine Club Car Truck and Motorcycle Show Downtown La
 Grange Ga
DESCRIPTION:open car truck and motorcycle show\nall proceeds to benefi
 t Shriner s Children's Hospital\npeoples choice and presidents choice 
 trophies will be awarded\n50/50 jug money tree\ncostume contest and fa
 ce painting for kids\n\nFor more information visit https://www.southea
 stwheelsevents.com/events/lagrange-shrine-club-car-truck-and-motorcycl
 e-show-downtown
DTSTART;TZID=Pacific/Midway:20141018T100000
DTEND;TZID=Pacific/Midway:20141018T150000
CATEGORIES:childrens, hospital, fundraiser
LOCATION:parking lot next to the theater
WEBSITE:
URL:
CONTACT:706-302-5694
ORGANIZER;CN="Gregory B Brookshire":https://www.southeastwheelsevents.
 com/profile/GregoryBBrookshire
ATTACH;FMTTYPE="image/jpeg":http://storage.ning.com/topology/rest/1.0/
 file/get/967629979?profile=original
ATTENDEE;ROLE=REQ-PARTICIPANT;PARTSTAT=ACCEPTED;RSVP=TRUE;CN="Chuck Aa
 ron":https://www.southeastwheelsevents.com/profile/ChuckAaron
ATTENDEE;ROLE=REQ-PARTICIPANT;PARTSTAT=ACCEPTED;RSVP=TRUE;CN="Gregory 
 B Brookshire":https://www.southeastwheelsevents.com/profile/GregoryBBr
 ookshire
END:VEVENT
END:VCALENDAR
