BEGIN:VCALENDAR
PRODID:NingEventWidget-v1
VERSION:2.0
METHOD:PUBLISH
BEGIN:VTIMEZONE
TZID:Pacific/Midway
X-LIC-LOCATION:Pacific/Midway
BEGIN:STANDARD
TZOFFSETFROM:-1100
TZOFFSETTO:-1100
TZNAME:SST
DTSTART:19700101T000000
END:STANDARD
END:VTIMEZONE
BEGIN:VEVENT
UID:5072275:Event:1229528
DTSTAMP:20260422T153349Z
SUMMARY:Lakeland Winter Collector Car Auction
DESCRIPTION:Be part of the auction excitement in Lakeland, FL at the S
 un N’ Fun Campus. This auction will see over 400 classic and collect
 or cars across the block. Online and Phone bidding options are availab
 le! Visit CarlisleAuctions.com or call us at 717-960-6400 for more inf
 ormation.\n\nFor more information visit https://www.southeastwheelseve
 nts.com/events/lakeland-winter-collector-car-auction-2
DTSTART;TZID=Pacific/Midway:20220225T103000
DTEND;TZID=Pacific/Midway:20220226T190000
CATEGORIES:auction
LOCATION:Sun N' Fun Campus
WEBSITE:https://carlisleauctions.com/
URL:https://carlisleauctions.com/
CONTACT:7179606400
ORGANIZER:Carlisle Auctions
ATTACH;FMTTYPE="image/jpeg":https://storage.ning.com/topology/rest/1.0
 /file/get/9669814669?profile=original
ATTENDEE;ROLE=REQ-PARTICIPANT;PARTSTAT=ACCEPTED;RSVP=TRUE;CN="Mike Gar
 land":https://www.southeastwheelsevents.com/profile/MikeGarland
END:VEVENT
END:VCALENDAR
