BEGIN:VCALENDAR
PRODID:NingEventWidget-v1
VERSION:2.0
METHOD:PUBLISH
BEGIN:VTIMEZONE
TZID:Pacific/Midway
X-LIC-LOCATION:Pacific/Midway
BEGIN:STANDARD
TZOFFSETFROM:-1100
TZOFFSETTO:-1100
TZNAME:SST
DTSTART:19700101T000000
END:STANDARD
END:VTIMEZONE
BEGIN:VEVENT
UID:5072275:Event:1178252
DTSTAMP:20260419T054615Z
SUMMARY:LakePoint Fansgiving Car Show and Fall Festival | Emerson, GA
DESCRIPTION:Registration Form\nJoin us for a day of food, fun, and fam
 ily!\nThis is a free celebration to say thank you to everyone in the c
 ommunity for helping to make everything at LakePoint Sports possible.\
 n\nThe event will feature live music, food trucks, fun games, a car sh
 ow, street performers, and a college football tailgate!\n\nWe will als
 o be raffling off a brand new Honda Civic courtesy of Shottenkirk Hond
 a, with the proceeds going to a local veterans organization! \n\nFor 
 more information visit https://www.southeastwheelsevents.com/events/la
 kepoint-fansgiving-car-show-and-fall-festival-emerson-ga
DTSTART;TZID=Pacific/Midway:20191109T110000
DTEND;TZID=Pacific/Midway:20191109T160000
CATEGORIES:veteran, fundraiser
LOCATION:LakePoint Sporting Community
WEBSITE:https://www.google.com/maps/place/124+LakePoint+Pkwy,+Cartersv
 ille,+GA+30121/data=!4m2!3m1!1s0x88f54671d93bcfaf:0x3fadd7bdf732bb5?sa
 =X&amp;ved=2ahUKEwi49vXOm_vkAhVHY6wKHfJXD48Q8gEwAHoECAsQAQ
URL:https://www.google.com/maps/place/124+LakePoint+Pkwy,+Cartersville
 ,+GA+30121/data=!4m2!3m1!1s0x88f54671d93bcfaf:0x3fadd7bdf732bb5?sa=X&a
 mp;ved=2ahUKEwi49vXOm_vkAhVHY6wKHfJXD48Q8gEwAHoECAsQAQ
CONTACT:7248257333
ORGANIZER:LakePoint Sporting Community
ATTACH;FMTTYPE="image/jpeg":https://storage.ning.com/topology/rest/1.0
 /file/get/3638420644?profile=original
ATTENDEE;ROLE=REQ-PARTICIPANT;PARTSTAT=ACCEPTED;RSVP=TRUE;CN="Erika Wy
 ant":https://www.southeastwheelsevents.com/profile/ErikaWyant
ATTENDEE;ROLE=REQ-PARTICIPANT;PARTSTAT=TENTATIVE;RSVP=TRUE;CN="JP Brad
 y":https://www.southeastwheelsevents.com/profile/jpbrady
END:VEVENT
END:VCALENDAR
