BEGIN:VCALENDAR
PRODID:NingEventWidget-v1
VERSION:2.0
METHOD:PUBLISH
BEGIN:VTIMEZONE
TZID:Pacific/Midway
X-LIC-LOCATION:Pacific/Midway
BEGIN:STANDARD
TZOFFSETFROM:-1100
TZOFFSETTO:-1100
TZNAME:SST
DTSTART:19700101T000000
END:STANDARD
END:VTIMEZONE
BEGIN:VEVENT
UID:5072275:Event:561306
DTSTAMP:20260420T181312Z
SUMMARY:SHARON PARROTT MEMORIAL CAR SHOW / Muscle Car Ministries Car S
 how -Knoxville, TN
DESCRIPTION:\nSHARON PARROTT MEMORIAL CAR SHOW \nMuscle Car Ministries
 , HOPE Resource Center and Mt. Harmony Baptist Church would like to in
 vite you to the Annual Sharon Parrott Memorial Car Show.  This event
  has become one of the best and largest benefit car shows in the area.
   We hope that you will make plans to join us to help us reach our go
 al for HOPE Resource Center and to \"Spread the Word of God the Fastes
 t Way We Know How\".  The first 125 to register day of the show will r
 eceive a free goodie bag that will include a fire extinguisher that ca
 n be mounted in your car!\n\nFor more information visit https://www.so
 utheastwheelsevents.com/events/lance-cunningham-ford-muscle-car-minist
 ries-car-show
DTSTART;TZID=Pacific/Midway:20160604T100000
DTEND;TZID=Pacific/Midway:20160604T150000
CATEGORIES:car, show, fund, raiser
LOCATION:Mount Harmony Baptist Church
WEBSITE:http://www.musclecarministries.com
URL:http://www.musclecarministries.com
CONTACT:Jamie Estes 865.660.3018
ORGANIZER:Muscle Car Ministries, HOPE Resource Center and Mt. Harmony 
 Baptist Church
ATTACH;FMTTYPE="image/jpeg":http://storage.ning.com/topology/rest/1.0/
 file/get/967621731?profile=original
ATTENDEE;ROLE=REQ-PARTICIPANT;PARTSTAT=ACCEPTED;RSVP=TRUE;CN="Jamie Es
 tes":https://www.southeastwheelsevents.com/profile/JamieEstes942
END:VEVENT
END:VCALENDAR
