BEGIN:VCALENDAR
PRODID:NingEventWidget-v1
VERSION:2.0
METHOD:PUBLISH
BEGIN:VTIMEZONE
TZID:Pacific/Midway
X-LIC-LOCATION:Pacific/Midway
BEGIN:STANDARD
TZOFFSETFROM:-1100
TZOFFSETTO:-1100
TZNAME:SST
DTSTART:19700101T000000
END:STANDARD
END:VTIMEZONE
BEGIN:VEVENT
UID:5072275:Event:817111
DTSTAMP:20260421T102208Z
SUMMARY:Lake Lanier Auto Show & Classic Car Auction (+Lauching for the
  James Bond Lotus) -Buford, GA
DESCRIPTION:MOTORHEAD GARAGE & ROLLING STEEL  WILL BE JOINING THE ALI
 AS TEAM TO HELP RAISE FUNDS FOR OUR AMERICAN VETERANS WITH A GREAT CAR
  SHOW ON THE TOP OF LAKE LANIER ISLANDS WITH THE BEST VIEW OF THE LAKE
 .\nTHERE WILL BE ALL KINDS OF EVENTS FOR ADULTS AND KIDS ALIKE. THE CA
 R SHOW WILL SURROUND THE HILL TOP, YOUR ENTRY DONATION WILL GO TO HELP
  THE VETERANS.  YOUR DONATION OF ITEMS TO BE AUCTIONED ARE ALSO VERY 
 WELCOME.\nWE WILL START THE CLASSIC CAR, TRUCK MOTORCYCLE AND BOAT AUC
 TION AT 2:30 AND A PORTION OF THE PROCEEDS GO THE  VETERANS OF EVERY 
 CAR SOLD. TO CONSIGN YOURS TODAY CALL STEVE 404-876-1048\nLake Lanier 
 Auto Show Website\nLake Lanier Auto Auction By Four Seasons\nNot Just 
 Another Car Show\nThe Lake Lanier Auto Show & Auction is NOT a typical
  car show. This will be a multifaceted event overlooking beautiful Lak
 e Lanier Islands with a range of vendors, sponsors, participants, with
  activities for car enthusiasts and the entire family to enjoy at the 
 one of a kind setting overlooking the Lake. Come see participants putt
 ing their vehicles through free dyno testing, enjoy the great food, 
 take in the live entertainment, meet Seal Team members, free semina
 r by PPG on surface prep for painting, vehicle auction by Rolling Stee
 l Classic Car Auctions and special exhibits. Vehicles entered into th
 e Auto Show will be competing for awards including: Best In Show, Bes
 t Muscle Car, Best Sports Car, Best Truck, Best Antique & Classic, Bes
 t Hot Rod and Rat Rod. All participants will be eligible for wild car
 d drawing for great prizes.\n \nEvent Details\nThere is NO ADMISSION
  FEE to attend the event with you family. Lake Lanier Islands charge
 s $10 per carload to enter their gates. While none of this goes towar
 d the event or ALIAS, it is the only cost to attend the event. Parking
  at the event once inside the Lake Lanier Islands gate is free. Food a
 nd beverages, along with vendors will all be at the show and have agre
 ed to donate a portion (in some cases ALL) of their profits to the cau
 se, so please support them.\nTo enter a car in the event for judging, 
 there is a fee of $20 per vehicle (you will still have to pay the Isla
 nds $10 fee for a total of $30). The $20 we collect will help us cover
  the prizes and the cost of the venue. We encourage folks to pre-regis
 ter so we can have an idea of who’s coming and how to lay out the sp
 ace.\nhttp://southeastwheelsevents.com/events/premier-us-launch-of-the
 -james-bond-lotus-esprit-marine\nCheck out the launch of the Jame Bond
   Lotus on Lake Lanier at the Car Show this weekend\n\nFor more infor
 mation visit https://www.southeastwheelsevents.com/events/lanier-car-s
 how-and-classic-car-auction
DTSTART;TZID=Pacific/Midway:20141011T100000
DTEND;TZID=Pacific/Midway:20141011T163000
CATEGORIES:lanier, car, show, "&", classic, benefit, auction
LOCATION:Lake Lanier Islands
WEBSITE:http://www.lakelanierautoshow.org/
URL:http://www.lakelanierautoshow.org/
CONTACT:404-273-8431, 404-876-1048
ORGANIZER:Motorhead Garage & Steve White
ATTACH;FMTTYPE="image/jpeg":http://storage.ning.com/topology/rest/1.0/
 file/get/967665322?profile=original
ATTENDEE;ROLE=REQ-PARTICIPANT;PARTSTAT=ACCEPTED;RSVP=TRUE;CN="Hugh Dud
 ley":https://www.southeastwheelsevents.com/profile/HughDudley
ATTENDEE;ROLE=REQ-PARTICIPANT;PARTSTAT=ACCEPTED;RSVP=TRUE;CN="Steve Wh
 ite":https://www.southeastwheelsevents.com/profile/SteveWhite
ATTENDEE;ROLE=REQ-PARTICIPANT;PARTSTAT=ACCEPTED;RSVP=TRUE;CN="Michael 
 E. Rickey":https://www.southeastwheelsevents.com/profile/MichaelERicke
 y
END:VEVENT
END:VCALENDAR
