BEGIN:VCALENDAR
PRODID:NingEventWidget-v1
VERSION:2.0
METHOD:PUBLISH
BEGIN:VTIMEZONE
TZID:Pacific/Midway
X-LIC-LOCATION:Pacific/Midway
BEGIN:STANDARD
TZOFFSETFROM:-1100
TZOFFSETTO:-1100
TZNAME:SST
DTSTART:19700101T000000
END:STANDARD
END:VTIMEZONE
BEGIN:VEVENT
UID:5072275:Event:889131
DTSTAMP:20260423T070550Z
SUMMARY:Lanier Church of God Cruise In -Buford, GA
DESCRIPTION:Saturday May 30, 2015 -\nTime: 9:00 AM - 3:00 PM\nTop 25 a
 warded with 5 special awards including the Best Jim Ellis Pontiac-GMC 
 award.  Registration is $20.00.  All funds raised goes to the church
  for outreach ministries.  Live music will begin at 10:30 AM.  Lots 
 of great food and fun.  Bring the whole family for a day of fun.  Ra
 in date will be Saturday June 6th from 9:00 AM - 3:00 PM.\n\nFor more 
 information visit https://www.southeastwheelsevents.com/events/lanier-
 church-of-god-cruise-in-1
DTSTART;TZID=Pacific/Midway:20150530T090000
DTEND;TZID=Pacific/Midway:20150530T150000
CATEGORIES:fundraiser
LOCATION:Lanier Church of God
WEBSITE:
URL:
CONTACT:770-634-8978 or 770-945-4395
ORGANIZER:Kenny Stephens
ATTACH;FMTTYPE="image/jpeg":http://storage.ning.com/topology/rest/1.0/
 file/get/967687108?profile=original
ATTENDEE;ROLE=REQ-PARTICIPANT;PARTSTAT=ACCEPTED;RSVP=TRUE;CN="deedee s
 tephens":https://www.southeastwheelsevents.com/profile/deedeestephens
ATTENDEE;ROLE=REQ-PARTICIPANT;PARTSTAT=ACCEPTED;RSVP=TRUE;CN="Brian Os
 borne":https://www.southeastwheelsevents.com/profile/BrianOsborne451
ATTENDEE;ROLE=REQ-PARTICIPANT;PARTSTAT=ACCEPTED;RSVP=TRUE;CN="Jim Bell
 ":https://www.southeastwheelsevents.com/profile/JimBell
END:VEVENT
END:VCALENDAR
