BEGIN:VCALENDAR
PRODID:NingEventWidget-v1
VERSION:2.0
METHOD:PUBLISH
BEGIN:VTIMEZONE
TZID:Pacific/Midway
X-LIC-LOCATION:Pacific/Midway
BEGIN:STANDARD
TZOFFSETFROM:-1100
TZOFFSETTO:-1100
TZNAME:SST
DTSTART:19700101T000000
END:STANDARD
END:VTIMEZONE
BEGIN:VEVENT
UID:5072275:Event:910694
DTSTAMP:20260423T005459Z
SUMMARY:LANIER CHURCH OF GOD CRUISE IN - Buford,GA
DESCRIPTION:Cruise in for a great time.  Top 20, Five special awards 
 including Best of Show.  Lots of good food and music.  Free Concert 
 and awards at 2:30 PM.  Bring the whole family for a day of fun and f
 ellowship.\n\nFor more information visit https://www.southeastwheelsev
 ents.com/events/lanier-church-of-god-cruise-in-2
DTSTART;TZID=Pacific/Midway:20150815T090000
DTEND;TZID=Pacific/Midway:20150815T150000
CATEGORIES:fundraiser
LOCATION:Lanier Church of God
WEBSITE:http://www.lanierchurch.com
URL:http://www.lanierchurch.com
CONTACT:(770) 634-8978
ORGANIZER:Kenny Stephens
ATTACH;FMTTYPE="image/jpeg":http://storage.ning.com/topology/rest/1.0/
 file/get/967691633?profile=original
ATTENDEE;ROLE=REQ-PARTICIPANT;PARTSTAT=ACCEPTED;RSVP=TRUE;CN="Brent Wa
 lter":https://www.southeastwheelsevents.com/profile/BrentWalter
ATTENDEE;ROLE=REQ-PARTICIPANT;PARTSTAT=ACCEPTED;RSVP=TRUE;CN="deedee s
 tephens":https://www.southeastwheelsevents.com/profile/deedeestephens
ATTENDEE;ROLE=REQ-PARTICIPANT;PARTSTAT=ACCEPTED;RSVP=TRUE;CN="EDWARD  
 BEARDEN":https://www.southeastwheelsevents.com/profile/EDWARDBEARDEN
ATTENDEE;ROLE=REQ-PARTICIPANT;PARTSTAT=TENTATIVE;RSVP=TRUE;CN="Ed Mash
 burn":https://www.southeastwheelsevents.com/profile/EdMashburn
ATTENDEE;ROLE=REQ-PARTICIPANT;PARTSTAT=TENTATIVE;RSVP=TRUE;CN="Rodney 
 Wallin":https://www.southeastwheelsevents.com/profile/Rodneywallin
END:VEVENT
END:VCALENDAR
