BEGIN:VCALENDAR
PRODID:NingEventWidget-v1
VERSION:2.0
METHOD:PUBLISH
BEGIN:VTIMEZONE
TZID:Pacific/Midway
X-LIC-LOCATION:Pacific/Midway
BEGIN:STANDARD
TZOFFSETFROM:-1100
TZOFFSETTO:-1100
TZNAME:SST
DTSTART:19700101T000000
END:STANDARD
END:VTIMEZONE
BEGIN:VEVENT
UID:5072275:Event:827696
DTSTAMP:20260423T145809Z
SUMMARY:LANIER CHURCH OF GOD SHOW & SHINE -Buford, GA
DESCRIPTION:SATURDAY OCTOBER 11, 2014\nREGISTRATION 9:00 AM - 12:00 PM
 , SHOW UNTIL 3:00 PM. \nAWARDS FOR TOP THREE CARS IN ELEVEN CLASSES. 
 SPECIAL AWARDS INCLUDING YOUNGEST & OLDEST PARTICIPANT, JIM ELLIS BUIC
 K BEST BUICK AWARD, BEST OF SHOW. LOTS OF DOOR PRIZES & OTHER AWARDS.
   \nGREAT FOOD AND LIVE MUSIC.  ALL PROCEEDS GO TO THE CHURCH OUTRE
 ACH MINISTRIES.\nEVERYONE IS A WINNER AT LANIER CHURCH OF GOD.  WE AP
 PRECIATE YOUR SUPPORT AND INVITE YOU TO WORSHIP WITH US ANYTIME.\nFOR 
 MORE INFO CONTACT KENNY STEPHENS @ 770-634-8978. \n\n\nFor more infor
 mation visit https://www.southeastwheelsevents.com/events/lanier-churc
 h-of-god-show-shine
DTSTART;TZID=Pacific/Midway:20141011T090000
DTEND;TZID=Pacific/Midway:20141011T150000
CATEGORIES:fundraiser
LOCATION:LANIER CHURCH OF GOD
WEBSITE:http://www.lanierchurch.com
URL:http://www.lanierchurch.com
CONTACT:770-634-8978
ORGANIZER:Kenny Stephens
ATTACH;FMTTYPE="image/jpeg":http://storage.ning.com/topology/rest/1.0/
 file/get/967671975?profile=original
ATTENDEE;ROLE=REQ-PARTICIPANT;PARTSTAT=ACCEPTED;RSVP=TRUE;CN="EDWARD  
 BEARDEN":https://www.southeastwheelsevents.com/profile/EDWARDBEARDEN
ATTENDEE;ROLE=REQ-PARTICIPANT;PARTSTAT=ACCEPTED;RSVP=TRUE;CN="deedee s
 tephens":https://www.southeastwheelsevents.com/profile/deedeestephens
END:VEVENT
END:VCALENDAR
