BEGIN:VCALENDAR
PRODID:NingEventWidget-v1
VERSION:2.0
METHOD:PUBLISH
BEGIN:VTIMEZONE
TZID:Pacific/Midway
X-LIC-LOCATION:Pacific/Midway
BEGIN:STANDARD
TZOFFSETFROM:-1100
TZOFFSETTO:-1100
TZNAME:SST
DTSTART:19700101T000000
END:STANDARD
END:VTIMEZONE
BEGIN:VEVENT
UID:5072275:Event:1267977
DTSTAMP:20260421T212555Z
SUMMARY:LANIER CHURCH OF GOD SPRING CRUISE IN
DESCRIPTION:SPRING CRUISE IN. LOTS OF GOOD FOOD AND MUSIC.\nTROPHIES F
 OR EACH CLASS. FUN FOR THE WHOLE FAMILY.\n\nFor more information visit
  https://www.southeastwheelsevents.com/events/lanier-church-of-god-spr
 ing-cruise-in-5
DTSTART;TZID=Pacific/Midway:20250426T100000
DTEND;TZID=Pacific/Midway:20250426T140000
CATEGORIES:fundraiser, for, church
LOCATION:LANIER CHURCH OF GOD BUFORD GA
WEBSITE:
URL:
CONTACT:(770) 634-8978
ORGANIZER:KENNY STEPHENS
ATTACH;FMTTYPE="image/jpeg":
ATTENDEE;ROLE=REQ-PARTICIPANT;PARTSTAT=ACCEPTED;RSVP=TRUE;CN="deedee s
 tephens":https://www.southeastwheelsevents.com/profile/deedeestephens
END:VEVENT
END:VCALENDAR
