BEGIN:VCALENDAR
PRODID:NingEventWidget-v1
VERSION:2.0
METHOD:PUBLISH
BEGIN:VTIMEZONE
TZID:Pacific/Midway
X-LIC-LOCATION:Pacific/Midway
BEGIN:STANDARD
TZOFFSETFROM:-1100
TZOFFSETTO:-1100
TZNAME:SST
DTSTART:19700101T000000
END:STANDARD
END:VTIMEZONE
BEGIN:VEVENT
UID:5072275:Event:779209
DTSTAMP:20260423T110203Z
SUMMARY:Lanier Church of God Spring Cruise-in Buford, GA
DESCRIPTION:Top 20 Awards plus six special awards.  $100.00 for best 
 club participation.  Entry fee is $20.00 and goes to help fund local 
 ministries within the church. \nShow hours are 9:00 AM - 2:00 PM with
  registration from 9:00 AM - 12:00 PM.  There will also be a yard sal
 e, live music and lots of good food.\nWe consider you all a winner and
  appreciate your support and participation.\nContact Kenny Stephens fo
 r additional info, (770) 634-8978 or (770) 945-4395.\n\nFor more infor
 mation visit https://www.southeastwheelsevents.com/events/lanier-churc
 h-of-god-spring-cruise-in-buford-ga
DTSTART;TZID=Pacific/Midway:20140531T090000
DTEND;TZID=Pacific/Midway:20140531T140000
CATEGORIES:fundraiser
LOCATION:Lanier Church of God
WEBSITE:http://www.lanierchurch.com
URL:http://www.lanierchurch.com
CONTACT:770-271-7222
ORGANIZER:Kenny Stephens
ATTACH;FMTTYPE="image/jpeg":http://storage.ning.com/topology/rest/1.0/
 file/get/967659503?profile=original
ATTENDEE;ROLE=REQ-PARTICIPANT;PARTSTAT=ACCEPTED;RSVP=TRUE;CN="deedee s
 tephens":https://www.southeastwheelsevents.com/profile/deedeestephens
ATTENDEE;ROLE=REQ-PARTICIPANT;PARTSTAT=TENTATIVE;RSVP=TRUE;CN="Mike La
 May":https://www.southeastwheelsevents.com/profile/MikeLaMay
END:VEVENT
END:VCALENDAR
