BEGIN:VCALENDAR
PRODID:NingEventWidget-v1
VERSION:2.0
METHOD:PUBLISH
BEGIN:VTIMEZONE
TZID:Pacific/Midway
X-LIC-LOCATION:Pacific/Midway
BEGIN:STANDARD
TZOFFSETFROM:-1100
TZOFFSETTO:-1100
TZNAME:SST
DTSTART:19700101T000000
END:STANDARD
END:VTIMEZONE
BEGIN:VEVENT
UID:5072275:Event:1252832
DTSTAMP:20260423T121525Z
SUMMARY:Lanier Tech Open House and Car Show -Gainesville, GA
DESCRIPTION: \r\nLanier Tech’s Motorsports Vehicle Technology (MVT)
  Department will be holding an Open House & Car Show on \r\nThis Open
  House & Car Show is being held in conjunction with the Lanier Tech Mo
 torsports Club and the Lanier Technical College Student Government Ass
 ociation.\r\nJoin us for free BBQ (starting at 4:00) and see our fabul
 ous Hall campus and the Motorsports facilities. Don’t have a car you
  want to show or bring? No problem, come see the cars, check out the n
 ew facilities, enjoy the BBQ and the camaraderie!\r\nBring your family
  and friends.\r\nThe Student Government Association will have Family a
 ctivities (starting at 4:00) including a bouncy house, yard games, fac
 e painting, costume contest, and more!\r\nAll cars, trucks, and motorc
 ycles are welcome to participate in the Car Show: Street, Race, Vintag
 e, Classic, Hot Rods, New, Old, etc.\r\nThere are no entry fees for th
 e Car Show although any & all donations will be very much appreciated!
 \r\nThe Georgia Street Rod Association, one of the Sponsors of Lanier 
 Tech’s Motorsports Vehicle Technology (MVT) Department, will be on-h
 and to perform a Voluntary Safety Inspection on your Street driven Mus
 cle Car, Hot Rod, or Classic Vehicle. There is no charge for this Volu
 ntary Safety Inspection.\r\nThere is dedicated parking set aside for G
 eorgia Street Rod Association Members.\r\nLanier Technical College is 
 located at 2535 Lanier Tech Drive; Gainesville, GA 30507 which is 8 mi
 les North of the old Oakwood Campus.\n\nFor more information visit htt
 ps://www.southeastwheelsevents.com/events/lanier-tech-open-house-and-c
 ar-show-gainesville-ga
DTSTART;TZID=Pacific/Midway:20231026T140000
DTEND;TZID=Pacific/Midway:20231026T200000
CATEGORIES:benefit, car, show, open, house
LOCATION:Laniet Technical College
WEBSITE:
URL:
CONTACT:
ORGANIZER:Georgia Street Rod Association
ATTACH;FMTTYPE="image/jpeg":https://storage.ning.com/topology/rest/1.0
 /file/get/9757249264?profile=original
ATTENDEE;ROLE=REQ-PARTICIPANT;PARTSTAT=ACCEPTED;RSVP=TRUE;CN="Chuck Aa
 ron":https://www.southeastwheelsevents.com/profile/ChuckAaron886
ATTENDEE;ROLE=REQ-PARTICIPANT;PARTSTAT=TENTATIVE;RSVP=TRUE;CN="James M
 roz":https://www.southeastwheelsevents.com/profile/JamesMroz
END:VEVENT
END:VCALENDAR
