BEGIN:VCALENDAR
PRODID:NingEventWidget-v1
VERSION:2.0
METHOD:PUBLISH
BEGIN:VTIMEZONE
TZID:Pacific/Midway
X-LIC-LOCATION:Pacific/Midway
BEGIN:STANDARD
TZOFFSETFROM:-1100
TZOFFSETTO:-1100
TZNAME:SST
DTSTART:19700101T000000
END:STANDARD
END:VTIMEZONE
BEGIN:VEVENT
UID:5072275:Event:1062356
DTSTAMP:20260421T032557Z
SUMMARY:Las Vegas BikeFest - Las Vegas, NV
DESCRIPTION:\n\nFor more information visit https://www.southeastwheels
 events.com/events/las-vegas-bikefest-las-vegas-nv
DTSTART;TZID=Pacific/Midway:20171005T000000
DTEND;TZID=Pacific/Midway:20171008T235900
CATEGORIES:motorcycle, festival, week
LOCATION:Downtown Las Vegas
WEBSITE:https://lasvegasbikefest.com/
URL:https://lasvegasbikefest.com/
CONTACT:866-BIKEFEST (245-3337) info@lasvegasbikefest.com
ORGANIZER:Las Vegas BikeFest
ATTACH;FMTTYPE="image/jpeg":http://storage.ning.com/topology/rest/1.0/
 file/get/967749355?profile=original
ATTENDEE;ROLE=REQ-PARTICIPANT;PARTSTAT=ACCEPTED;RSVP=TRUE;CN="Chuck Aa
 ron":https://www.southeastwheelsevents.com/profile/ChuckAaron886
END:VEVENT
END:VCALENDAR
