BEGIN:VCALENDAR
PRODID:NingEventWidget-v1
VERSION:2.0
METHOD:PUBLISH
BEGIN:VTIMEZONE
TZID:Pacific/Midway
X-LIC-LOCATION:Pacific/Midway
BEGIN:STANDARD
TZOFFSETFROM:-1100
TZOFFSETTO:-1100
TZNAME:SST
DTSTART:19700101T000000
END:STANDARD
END:VTIMEZONE
BEGIN:VEVENT
UID:5072275:Event:916919
DTSTAMP:20260422T224539Z
SUMMARY:Last Blast For Summers Past   (Comer, GA)
DESCRIPTION:Fun for the whole family in Comer ga.\nCity wide yard sale
  ( set up starts at 7am bring your own tables etc. )\n\nCrafts, food, 
 and inflatable\nFree booth space vendors contact city hall\n\nALL-IN C
 ar Show 10am- 2pm\n$10 registration fee\nTop 10 awards plus 1 hand mad
 e award for best rat rod\n$300 CASH DRAWING.\n50/25/25 drawing\n\nMore
  info call comer city hall 706 783 4552\n\nFor more information visit 
 https://www.southeastwheelsevents.com/events/last-blast-for-summers-pa
 st-comer-ga
DTSTART;TZID=Pacific/Midway:20150912T100000
DTEND;TZID=Pacific/Midway:20150912T140000
CATEGORIES:car, show
LOCATION:cliff Yarbrough memorial park
WEBSITE:
URL:
CONTACT:706 255 2196
ORGANIZER:Madison county cruisers
ATTACH;FMTTYPE="image/jpeg":
ATTENDEE;ROLE=REQ-PARTICIPANT;PARTSTAT=ACCEPTED;RSVP=TRUE;CN="J.J. McC
 arty":https://www.southeastwheelsevents.com/profile/jjmccarty
END:VEVENT
END:VCALENDAR
