BEGIN:VCALENDAR
PRODID:NingEventWidget-v1
VERSION:2.0
METHOD:PUBLISH
BEGIN:VTIMEZONE
TZID:Pacific/Midway
X-LIC-LOCATION:Pacific/Midway
BEGIN:STANDARD
TZOFFSETFROM:-1100
TZOFFSETTO:-1100
TZNAME:SST
DTSTART:19700101T000000
END:STANDARD
END:VTIMEZONE
BEGIN:VEVENT
UID:5072275:Event:728562
DTSTAMP:20260423T165622Z
SUMMARY:Extras & Cars Casting Call (Pre-1983) -Atlanta, GA Area (WEATH
 ER CHANGE)
DESCRIPTION:Extras Casting Atlanta\nHi, \nWe are looking for a few ad
 ditional high end type cars for an exterior upscale hotel scene on thi
 s coming Wednesday 1/29 near downtown Atlanta. We are looking at an ea
 rly-mid morning call time 7am-10am and possible lasting until 3 - 5p a
 t $130/8 then time and a half after. A flat rate rather then a regular
  rate and extra for the car allows you to earn over time after 8 over 
 the entire rate. \n \nPlease let us know ASAP and you and your car w
 ould be interested/available to join us and we will contact you back t
 o confirm your on the list and then send all of the final details Tues
 day afternoon. \nThanks!!\nPatrick Ingram, Nathan and Janel\nExtras 
 Casting \n'Halt and Catch Fire' \n**TELL THEM YOU SAW THIS ON SouthE
 astWheelsEvents.com! :-)\n\n\nFor more information visit https://www.s
 outheastwheelsevents.com/events/last-minute-extras-cars-casting-call-p
 re-1983-atlanta-ga-area
DTSTART;TZID=Pacific/Midway:20140131T000000
DTEND;TZID=Pacific/Midway:20140131T235900
CATEGORIES:casting, call
LOCATION:Call For Location
WEBSITE:http://thesoutherncastingcall.com/2013/11/19/extras-casting-at
 lanta-starting-what-will-be-an-ongoing-search-the-next-few-weeks-men-a
 nd-women-with-cars-and-trucks-that-are-1983-and-older-this-means-older
 -1983-1982-1981-1980-1979-and-so-on/
URL:http://thesoutherncastingcall.com/2013/11/19/extras-casting-atlant
 a-starting-what-will-be-an-ongoing-search-the-next-few-weeks-men-and-w
 omen-with-cars-and-trucks-that-are-1983-and-older-this-means-older-198
 3-1982-1981-1980-1979-and-so-on/
CONTACT:404-396-6913 / 404-455-0313 / 404.662.4050 / 404.259.5088 /770
 -883-0160
ORGANIZER:Kevin P. King
ATTACH;FMTTYPE="image/jpeg":http://storage.ning.com/topology/rest/1.0/
 file/get/967651422?profile=original
ATTENDEE;ROLE=REQ-PARTICIPANT;PARTSTAT=ACCEPTED;RSVP=TRUE;CN="Michael 
 Thies":https://www.southeastwheelsevents.com/profile/MichaelThies
ATTENDEE;ROLE=REQ-PARTICIPANT;PARTSTAT=TENTATIVE;RSVP=TRUE;CN="Robert 
 G Herr":https://www.southeastwheelsevents.com/profile/RobertGHerr
END:VEVENT
END:VCALENDAR
