BEGIN:VCALENDAR
PRODID:NingEventWidget-v1
VERSION:2.0
METHOD:PUBLISH
BEGIN:VTIMEZONE
TZID:Pacific/Midway
X-LIC-LOCATION:Pacific/Midway
BEGIN:STANDARD
TZOFFSETFROM:-1100
TZOFFSETTO:-1100
TZNAME:SST
DTSTART:19700101T000000
END:STANDARD
END:VTIMEZONE
BEGIN:VEVENT
UID:5072275:Event:1025526
DTSTAMP:20260419T181108Z
SUMMARY:Laurinburg Cruise-In
DESCRIPTION:Laurinburg Cruise-In will be held at Smithfield's Chicken 
 N Bar-B-Q, 402 Plaza Road. Laurinburg, NC 28352. Event starts at 5:00 
 pm. and ends by 8:00 pm.\n\nFor more information visit https://www.sou
 theastwheelsevents.com/events/laurinburg-cruise-in-2
DTSTART;TZID=Pacific/Midway:20161227T170000
DTEND;TZID=Pacific/Midway:20161227T200000
CATEGORIES:cars, "clubs/shows/cruises"
LOCATION:Smithfield's Chicken N Bar-B-Q
WEBSITE:http://sandhillsclassicstreetrods.com/calendar/
URL:http://sandhillsclassicstreetrods.com/calendar/
CONTACT:
ORGANIZER:Sandhills Classic Street Rod Association
ATTACH;FMTTYPE="image/jpeg":http://storage.ning.com/topology/rest/1.0/
 file/get/967721357?profile=original
ATTENDEE;ROLE=REQ-PARTICIPANT;PARTSTAT=ACCEPTED;RSVP=TRUE;CN="Chris go
 sney":https://www.southeastwheelsevents.com/profile/Chrisgosney
END:VEVENT
END:VCALENDAR
