BEGIN:VCALENDAR
PRODID:NingEventWidget-v1
VERSION:2.0
METHOD:PUBLISH
BEGIN:VTIMEZONE
TZID:Pacific/Midway
X-LIC-LOCATION:Pacific/Midway
BEGIN:STANDARD
TZOFFSETFROM:-1100
TZOFFSETTO:-1100
TZNAME:SST
DTSTART:19700101T000000
END:STANDARD
END:VTIMEZONE
BEGIN:VEVENT
UID:5072275:Event:546205
DTSTAMP:20260424T105134Z
SUMMARY:Law Enforcement Memorial Bike Ride –Brunswick, Ga
DESCRIPTION:Location: Golden Isles Harley Shop\nLaw Enforcement Memori
 al Bike Ride\n– A Police Escorted Motorcycle Ride From Brunswick, Ga
 . To St. Augustine Fla. Proceeds Benefit The Families Of Officers Kill
 ed In The Line Of Duty, Officers With Terminal Illnesses And Officers 
 Seriously Injured In Traffic Crashes While On Duty. Event Has Drawn Be
 tween 200-300 Bikes In Past Years. A “Pre-Ride Activities Night” W
 ill Be Held Friday, Sept. 21st From 6:00pm Until 11:00pm At The Stella
 r Conference Center, 125 Venture Drive With A Cookout, Band, Pre-Regis
 tration And Sale Of Event Items. Saturday’s Event Starts At 8:00am A
 t The Golden Isles Harley Shop, 153 Venture Drive With Registrations, 
 Sale Items, Dedication And Ride Prayer. Kickstands Up Promptly At 10:0
 0am. The Host Motel In Brunswick For Friday Night Is The Quality Inn, 
 (912) 265-4600 , Located Directly Behind The Golden Isles Harley Shop.
  The Reduce Room Rate Is $61.05 (Includes Tax). The Host Motel In St. 
 Augustine Is The Monterey Inn, (904)-824-4844 , 16 Avenida Menendez Av
 e., Which Is On The Bay Front And Within Walking Distance Of All Attra
 ctions. The Reduced Room Rate Is $116.32 (Tax Included). When Making R
 eservations At Either, Please Mention “Georgia Law Ride” For Reduc
 ed Rate(S). For More Information Or To Pre-Register On Line Go To Www.
 Blueknights-Gaxiv.Com Or Contact David Seawell At (912) 269-2779 Or Ca
 pt_blue@Comcast.Net.\n\nFor more information visit https://www.southea
 stwheelsevents.com/events/law-enforcement-memorial-bike-ride-brunswick
 -ga
DTSTART;TZID=Pacific/Midway:20120921T180000
DTEND;TZID=Pacific/Midway:20120922T160000
CATEGORIES:bike-ride
LOCATION:Golden Isles Harley Shop
WEBSITE:
URL:
CONTACT:Contact David Seawell At (912) 269-2779 Or Capt_blue@Comcast.N
 et.
ORGANIZER:Brunswick Police Department And Blue Knights
ATTACH;FMTTYPE="image/jpeg":
ATTENDEE;ROLE=REQ-PARTICIPANT;PARTSTAT=ACCEPTED;RSVP=TRUE;CN="Michael 
 Thies":https://www.southeastwheelsevents.com/profile/MichaelThies
END:VEVENT
END:VCALENDAR
