BEGIN:VCALENDAR
PRODID:NingEventWidget-v1
VERSION:2.0
METHOD:PUBLISH
BEGIN:VTIMEZONE
TZID:Pacific/Midway
X-LIC-LOCATION:Pacific/Midway
BEGIN:STANDARD
TZOFFSETFROM:-1100
TZOFFSETTO:-1100
TZNAME:SST
DTSTART:19700101T000000
END:STANDARD
END:VTIMEZONE
BEGIN:VEVENT
UID:5072275:Event:1027504
DTSTAMP:20260420T005649Z
SUMMARY:Lebanon Antiques & Uniques Expo
DESCRIPTION:Visit the brand new Wilson County Exposition Center for so
 me good old-fashioned treasure hunting! You will find everything from 
 antique and custom built furniture, estate items, vintage: toys, cloth
 ing and advertising; automotive memorbilia and more. All indoors-open 
 rain or shine! Hours 7am-5pm.\n\nFor more information visit https://ww
 w.southeastwheelsevents.com/events/lebanon-antiques-uniques-expo-1
DTSTART;TZID=Pacific/Midway:20170114T070000
DTEND;TZID=Pacific/Midway:20170114T170000
CATEGORIES:other, "clubs/shows/cruises"
LOCATION:Wilson County Exposition Center
WEBSITE:http://www.bothbarrels.us/
URL:http://www.bothbarrels.us/
CONTACT:
ORGANIZER:Both Barrels Promotions
ATTACH;FMTTYPE="image/jpeg":http://storage.ning.com/topology/rest/1.0/
 file/get/967725657?profile=original
ATTENDEE;ROLE=REQ-PARTICIPANT;PARTSTAT=ACCEPTED;RSVP=TRUE;CN="Chris go
 sney":https://www.southeastwheelsevents.com/profile/Chrisgosney
END:VEVENT
END:VCALENDAR
