BEGIN:VCALENDAR
PRODID:NingEventWidget-v1
VERSION:2.0
METHOD:PUBLISH
BEGIN:VTIMEZONE
TZID:Pacific/Midway
X-LIC-LOCATION:Pacific/Midway
BEGIN:STANDARD
TZOFFSETFROM:-1100
TZOFFSETTO:-1100
TZNAME:SST
DTSTART:19700101T000000
END:STANDARD
END:VTIMEZONE
BEGIN:VEVENT
UID:5072275:Event:204413
DTSTAMP:20260420T065948Z
SUMMARY:Legends Race -Concord, NC
DESCRIPTION:legend car race at Concord Motorsports Park\n\nFor more in
 formation visit https://www.southeastwheelsevents.com/events/legends-r
 ace-concord-nc
DTSTART;TZID=Pacific/Midway:20110527T173000
DTEND;TZID=Pacific/Midway:20110527T234500
CATEGORIES:race
LOCATION:Concord Motorsports Park
WEBSITE:http://www.concordmotorsportpark.com/quarter_events.html
URL:http://www.concordmotorsportpark.com/quarter_events.html
CONTACT:
ORGANIZER;CN="Amber Colvin":https://www.southeastwheelsevents.com/prof
 ile/AmberColvin
ATTACH;FMTTYPE="image/jpeg":http://storage.ning.com/topology/rest/1.0/
 file/get/967590604?profile=original
ATTENDEE;ROLE=REQ-PARTICIPANT;PARTSTAT=ACCEPTED;RSVP=TRUE;CN="Amber Co
 lvin":https://www.southeastwheelsevents.com/profile/AmberColvin
END:VEVENT
END:VCALENDAR
