BEGIN:VCALENDAR
PRODID:NingEventWidget-v1
VERSION:2.0
METHOD:PUBLISH
BEGIN:VTIMEZONE
TZID:Pacific/Midway
X-LIC-LOCATION:Pacific/Midway
BEGIN:STANDARD
TZOFFSETFROM:-1100
TZOFFSETTO:-1100
TZNAME:SST
DTSTART:19700101T000000
END:STANDARD
END:VTIMEZONE
BEGIN:VEVENT
UID:5072275:Event:958493
DTSTAMP:20260419T140544Z
SUMMARY:LIBERTY CHURCH 1ST ANUAL CAR SHOW -Cleveland, TX
DESCRIPTION:Liberty Church is hosting its 1st annual car show on April
  2nd at their location 200 FM 2025 Cleveland TX 77328. Check in is at 
 10am,  judging starts at noon and trophy presentation at 3. Entry is 
 $20 a car, there will be 18 trophies awarded and the 1st 30 entries re
 ceive a free t-shirt, additional t-shirts as well as food will be avai
 lable for an additional cost. All proceeds from the show, shirts and f
 ood will go to benefit the Liberty Church Youth Department. Please hel
 p us make this show an amazing event and help contribute to a great ca
 use.\n\n\nFor more information visit https://www.southeastwheelsevents
 .com/events/liberty-church-1st-anual-car-show
DTSTART;TZID=Pacific/Midway:20160402T100000
DTEND;TZID=Pacific/Midway:20160402T150000
CATEGORIES:fundraiser, car, show
LOCATION:LIBERTY CHURCH
WEBSITE:
URL:
CONTACT:281-806-2586
ORGANIZER;CN="Andrew Treece":https://www.southeastwheelsevents.com/pro
 file/AndrewTreece
ATTACH;FMTTYPE="image/jpeg":http://storage.ning.com/topology/rest/1.0/
 file/get/967700791?profile=original
ATTENDEE;ROLE=REQ-PARTICIPANT;PARTSTAT=ACCEPTED;RSVP=TRUE;CN="Andrew T
 reece":https://www.southeastwheelsevents.com/profile/AndrewTreece
END:VEVENT
END:VCALENDAR
