BEGIN:VCALENDAR
PRODID:NingEventWidget-v1
VERSION:2.0
METHOD:PUBLISH
BEGIN:VTIMEZONE
TZID:Pacific/Midway
X-LIC-LOCATION:Pacific/Midway
BEGIN:STANDARD
TZOFFSETFROM:-1100
TZOFFSETTO:-1100
TZNAME:SST
DTSTART:19700101T000000
END:STANDARD
END:VTIMEZONE
BEGIN:VEVENT
UID:5072275:Event:1269589
DTSTAMP:20260422T111604Z
SUMMARY:Liberty Festival Show & Shine & Poker Run - Gainesville, GA
DESCRIPTION:\r\nPackages For Warriors needs your support come out to L
 aurel Park Gainesville Ga. August 23rd 8am-5pm. Car Show,Poker Run, Li
 ve Music, and great times. Alll proceeds goes to help families mail a 
 little peace of home. To our young Man and Women deployed around the w
 orld. Liberty Festival 2025\n\nFor more information visit https://www.
 southeastwheelsevents.com/events/liberty-festival-show-shine-poker-run
 -gainesville-ga
DTSTART;TZID=Pacific/Midway:20250823T080000
DTEND;TZID=Pacific/Midway:20250823T170000
CATEGORIES:liberty, festival, show, "&amp", shine, poker, run, -, gain
 esville, ga
LOCATION:Laurel Park
WEBSITE:https://www.facebook.com/PackagesForWarriorsOrg/
URL:https://www.facebook.com/PackagesForWarriorsOrg/
CONTACT:770-896-1748
ORGANIZER:Packages For Warriors
ATTACH;FMTTYPE="image/jpeg":https://storage.ning.com/topology/rest/1.0
 /file/get/12244319491?profile=original
ATTENDEE;ROLE=REQ-PARTICIPANT;PARTSTAT=ACCEPTED;RSVP=TRUE;CN="Michael 
 Thies":https://www.southeastwheelsevents.com/profile/MichaelThies
END:VEVENT
END:VCALENDAR
