BEGIN:VCALENDAR
PRODID:NingEventWidget-v1
VERSION:2.0
METHOD:PUBLISH
BEGIN:VTIMEZONE
TZID:Pacific/Midway
X-LIC-LOCATION:Pacific/Midway
BEGIN:STANDARD
TZOFFSETFROM:-1100
TZOFFSETTO:-1100
TZNAME:SST
DTSTART:19700101T000000
END:STANDARD
END:VTIMEZONE
BEGIN:VEVENT
UID:5072275:Event:1040968
DTSTAMP:20260422T140648Z
SUMMARY:Limited Modified Special $1000 to Win
DESCRIPTION:Championship Points Night - All ClassesAlso running: Late 
 Models, Limited Modifieds,  Rookie Limited Modifieds, Street Stock * M
 ini Stocks * Stingers * Mini Wedge\n\nFor more information visit https
 ://www.southeastwheelsevents.com/events/limited-modified-special-1000-
 to-win
DTSTART;TZID=Pacific/Midway:20170401T000000
DTEND;TZID=Pacific/Midway:20170401T235900
CATEGORIES:race
LOCATION:Baton Rouge Raceway
WEBSITE:http://www.batonrougeraceway.com/index.htm
URL:http://www.batonrougeraceway.com/index.htm
CONTACT:(225) 774-4524!
ORGANIZER:
ATTACH;FMTTYPE="image/jpeg":http://storage.ning.com/topology/rest/1.0/
 file/get/967741721?profile=original
ATTENDEE;ROLE=REQ-PARTICIPANT;PARTSTAT=ACCEPTED;RSVP=TRUE;CN="Christop
 her Gosney":https://www.southeastwheelsevents.com/profile/ChristopherG
 osney
END:VEVENT
END:VCALENDAR
