BEGIN:VCALENDAR
PRODID:NingEventWidget-v1
VERSION:2.0
METHOD:PUBLISH
BEGIN:VTIMEZONE
TZID:Pacific/Midway
X-LIC-LOCATION:Pacific/Midway
BEGIN:STANDARD
TZOFFSETFROM:-1100
TZOFFSETTO:-1100
TZNAME:SST
DTSTART:19700101T000000
END:STANDARD
END:VTIMEZONE
BEGIN:VEVENT
UID:5072275:Event:1069277
DTSTAMP:20260423T093646Z
SUMMARY:Live Again Ministries Car & Bike Show
DESCRIPTION:\n\nFor more information visit https://www.southeastwheels
 events.com/events/live-again-ministries-car-bike-show
DTSTART;TZID=Pacific/Midway:20171028T090000
DTEND;TZID=Pacific/Midway:20171028T160000
CATEGORIES:fundraiser, for, live, again, ministries
LOCATION:Beside City Hall
WEBSITE:
URL:
CONTACT:
ORGANIZER:
ATTACH;FMTTYPE="image/jpeg":
ATTENDEE;ROLE=REQ-PARTICIPANT;PARTSTAT=TENTATIVE;RSVP=TRUE;CN="Jeffrey
  Rutherford":https://www.southeastwheelsevents.com/profile/JeffreyRuth
 erford866
END:VEVENT
END:VCALENDAR
