BEGIN:VCALENDAR
PRODID:NingEventWidget-v1
VERSION:2.0
METHOD:PUBLISH
BEGIN:VTIMEZONE
TZID:Pacific/Midway
X-LIC-LOCATION:Pacific/Midway
BEGIN:STANDARD
TZOFFSETFROM:-1100
TZOFFSETTO:-1100
TZNAME:SST
DTSTART:19700101T000000
END:STANDARD
END:VTIMEZONE
BEGIN:VEVENT
UID:5072275:Event:886228
DTSTAMP:20260422T113724Z
SUMMARY:Loganville American Legion Weekly Car Meet
DESCRIPTION:Come join us every Friday night at American Legion Post 23
 3!\nWe are asking individuals and car clubs to come by The American Le
 gion located on highway 78 in Loganville any Friday night starting at 
 5 pm for a cruise in. Stay for as little or as long as you wish so peo
 ple can enjoy looking at your vehicle or bike. In turn this will bring
  awareness to us Veterans, our Post and the 65 charities we support. A
 nyone is welcome inside to enjoy a beverage or food that will translat
 e to monies given to our 65 charities!  Our “Patriots Grill” is n
 ew and anxious to raise money to be given away to charity!\n \n\nFor 
 more information visit https://www.southeastwheelsevents.com/events/lo
 ganville-american-legion-weekly-car-meet
DTSTART;TZID=Pacific/Midway:20150508T170000
DTEND;TZID=Pacific/Midway:20150508T200000
CATEGORIES:car, "meet/funsraiser"
LOCATION:American Legion Post 233
WEBSITE:
URL:
CONTACT:
ORGANIZER:
ATTACH;FMTTYPE="image/jpeg":http://storage.ning.com/topology/rest/1.0/
 file/get/967685195?profile=original
ATTENDEE;ROLE=REQ-PARTICIPANT;PARTSTAT=ACCEPTED;RSVP=TRUE;CN="Snitch A
 dams":https://www.southeastwheelsevents.com/profile/SnitchAdams
ATTENDEE;ROLE=REQ-PARTICIPANT;PARTSTAT=ACCEPTED;RSVP=TRUE;CN="Troy Riv
 ers":https://www.southeastwheelsevents.com/profile/TroyRivers
END:VEVENT
END:VCALENDAR
