BEGIN:VCALENDAR
PRODID:NingEventWidget-v1
VERSION:2.0
METHOD:PUBLISH
BEGIN:VTIMEZONE
TZID:Pacific/Midway
X-LIC-LOCATION:Pacific/Midway
BEGIN:STANDARD
TZOFFSETFROM:-1100
TZOFFSETTO:-1100
TZNAME:SST
DTSTART:19700101T000000
END:STANDARD
END:VTIMEZONE
BEGIN:VEVENT
UID:5072275:Event:1133565
DTSTAMP:20260423T160308Z
SUMMARY:Loganville Cruisers Benfit Car Show -Loganville, GA
DESCRIPTION:Loganville Cruisers Benfit Car Show -Loganville, GA Come j
 oin us for music food and fun.\n\nFor more information visit https://w
 ww.southeastwheelsevents.com/events/loganville-cruiser-napa-auto-parts
 -cruise-in-1
DTSTART;TZID=Pacific/Midway:20220611T170000
DTEND;TZID=Pacific/Midway:20220611T200000
CATEGORIES:cruise, in, car, show, benfit
LOCATION:Napa Auto Parts Loganville Ga
WEBSITE:
URL:
CONTACT:Jimmy 678-847-1668/ Lisa 678-847-1672
ORGANIZER;CN="Lisa Jenkins":https://www.southeastwheelsevents.com/prof
 ile/LisaJenkins
ATTACH;FMTTYPE="image/jpeg":
ATTENDEE;ROLE=REQ-PARTICIPANT;PARTSTAT=ACCEPTED;RSVP=TRUE;CN="Lisa Jen
 kins":https://www.southeastwheelsevents.com/profile/LisaJenkins
ATTENDEE;ROLE=REQ-PARTICIPANT;PARTSTAT=ACCEPTED;RSVP=TRUE;CN="Tom McGe
 e":https://www.southeastwheelsevents.com/profile/ThomasMcGee
ATTENDEE;ROLE=REQ-PARTICIPANT;PARTSTAT=ACCEPTED;RSVP=TRUE;CN="John Bak
 er":https://www.southeastwheelsevents.com/profile/JohnJBaker
END:VEVENT
END:VCALENDAR
