BEGIN:VCALENDAR
PRODID:NingEventWidget-v1
VERSION:2.0
METHOD:PUBLISH
BEGIN:VTIMEZONE
TZID:Pacific/Midway
X-LIC-LOCATION:Pacific/Midway
BEGIN:STANDARD
TZOFFSETFROM:-1100
TZOFFSETTO:-1100
TZNAME:SST
DTSTART:19700101T000000
END:STANDARD
END:VTIMEZONE
BEGIN:VEVENT
UID:5072275:Event:546851
DTSTAMP:20260422T044605Z
SUMMARY:Lone Star Rally -Galveston, TX
DESCRIPTION:\nBrinder at brinder@LoneStarRally.com Candace at candace@
 lonestarrally.com\nT-Shirt information: Phone: 866-695-2388  Email: lo
 nestarrally@hotactionsw.com\n\nFor more information visit https://www.
 southeastwheelsevents.com/events/lone-star-rally-galveston-tx
DTSTART;TZID=Pacific/Midway:20121101T000000
DTEND;TZID=Pacific/Midway:20121104T235900
CATEGORIES:bike, rally
LOCATION:Galveston Harbor
WEBSITE:http://www.lonestarrally.com
URL:http://www.lonestarrally.com
CONTACT:832-437-2318
ORGANIZER:Lone Star Rally
ATTACH;FMTTYPE="image/jpeg":http://storage.ning.com/topology/rest/1.0/
 file/get/967625208?profile=original
ATTENDEE;ROLE=REQ-PARTICIPANT;PARTSTAT=ACCEPTED;RSVP=TRUE;CN="Michael 
 Thies":https://www.southeastwheelsevents.com/profile/MichaelThies
END:VEVENT
END:VCALENDAR
