BEGIN:VCALENDAR
PRODID:NingEventWidget-v1
VERSION:2.0
METHOD:PUBLISH
BEGIN:VTIMEZONE
TZID:Pacific/Midway
X-LIC-LOCATION:Pacific/Midway
BEGIN:STANDARD
TZOFFSETFROM:-1100
TZOFFSETTO:-1100
TZNAME:SST
DTSTART:19700101T000000
END:STANDARD
END:VTIMEZONE
BEGIN:VEVENT
UID:5072275:Event:1221519
DTSTAMP:20260423T163147Z
SUMMARY:Longest Tesla Parade World Record
DESCRIPTION:We’re going to break the current world record and raise 
 funds to save kids from human trafficking.\nSponsorship and donation o
 pportunities are available now. All proceeds will go toward preventing
  human trafficking via Operation Underground Railroad.\nAll we need to
  do to beat the record and take the title from China is to have more t
 han 145 Tesla’s participate in the parade. The goal will be to annih
 ilate this record with more than 300 Teslas.\nThe Parade will be Decem
 ber 12, 2020. Approximate start time 10 am.\nStarting Point: Windward 
 Parking Park and Ride (6 EV chargers available)\nEnding Point: The Wes
 tin Atlanta Perimeter North (currently one charger, but they are upgra
 ding now)\nThe total length of the Parade will be 15 miles mostly down
  Hwy 400.\nRegister for the parade, donate, become a sponsor or just s
 ign up for updates at http://teslarecord.com\n\nFor more information v
 isit https://www.southeastwheelsevents.com/events/longest-tesla-parade
 -world-record
DTSTART;TZID=Pacific/Midway:20201212T100000
DTEND;TZID=Pacific/Midway:20201212T140000
CATEGORIES:fundraiser
LOCATION:The Westin
WEBSITE:http://teslarecord.com
URL:http://teslarecord.com
CONTACT:470-239-0199
ORGANIZER;CN="Sean Mathis":https://www.southeastwheelsevents.com/profi
 le/SeanMathis
ATTACH;FMTTYPE="image/jpeg":https://storage.ning.com/topology/rest/1.0
 /file/get/8130419888?profile=original
ATTENDEE;ROLE=REQ-PARTICIPANT;PARTSTAT=ACCEPTED;RSVP=TRUE;CN="Sean Mat
 his":https://www.southeastwheelsevents.com/profile/SeanMathis
END:VEVENT
END:VCALENDAR
