BEGIN:VCALENDAR
PRODID:NingEventWidget-v1
VERSION:2.0
METHOD:PUBLISH
BEGIN:VTIMEZONE
TZID:Pacific/Midway
X-LIC-LOCATION:Pacific/Midway
BEGIN:STANDARD
TZOFFSETFROM:-1100
TZOFFSETTO:-1100
TZNAME:SST
DTSTART:19700101T000000
END:STANDARD
END:VTIMEZONE
BEGIN:VEVENT
UID:5072275:Event:271146
DTSTAMP:20260424T084026Z
SUMMARY:Lost Mountain Park-In
DESCRIPTION:Car show and cruise in\n\nFor more information visit https
 ://www.southeastwheelsevents.com/events/lost-mountain-parkin
DTSTART;TZID=Pacific/Midway:20110612T080000
DTEND;TZID=Pacific/Midway:20110612T110000
CATEGORIES:car, show
LOCATION:Lost Mountain Park
WEBSITE:
URL:
CONTACT:
ORGANIZER;CN="Brad Schneider":https://www.southeastwheelsevents.com/pr
 ofile/BradSchneider
ATTACH;FMTTYPE="image/jpeg":
ATTENDEE;ROLE=REQ-PARTICIPANT;PARTSTAT=ACCEPTED;RSVP=TRUE;CN="Brad Sch
 neider":https://www.southeastwheelsevents.com/profile/BradSchneider
END:VEVENT
END:VCALENDAR
