BEGIN:VCALENDAR
PRODID:NingEventWidget-v1
VERSION:2.0
METHOD:PUBLISH
BEGIN:VTIMEZONE
TZID:Pacific/Midway
X-LIC-LOCATION:Pacific/Midway
BEGIN:STANDARD
TZOFFSETFROM:-1100
TZOFFSETTO:-1100
TZNAME:SST
DTSTART:19700101T000000
END:STANDARD
END:VTIMEZONE
BEGIN:VEVENT
UID:5072275:Event:421924
DTSTAMP:20260420T044305Z
SUMMARY:Lumpkin County High School Skills USA Car, Tractor and Truck S
 how -Dahlonega, GA
DESCRIPTION:Lumpkin County High School presents its 4th annual car sho
 w for Skills USA. Skills USA is a competition where schools from all o
 ver the nation compete in various comps. such as Auto repair, collisio
 n repair, motorcycle repair, and diesel repair just to name a few. If 
 students are successful they win scholarships to the most prestige tec
 h schools around the nation. We will award around 14 awards per class 
 (Autos, Tractors, trucks) all vehicles are welcome old to new restored
  to unrestored come help support Georgia's future champions and tomorr
 ows future thank you so much for reading and God bless you all\n\nFor 
 more information visit https://www.southeastwheelsevents.com/events/lu
 mpkin-county-high-school-skills-usa-car-tractor-and-truck-show
DTSTART;TZID=Pacific/Midway:20111001T100000
DTEND;TZID=Pacific/Midway:20111001T140000
CATEGORIES:fundraiser, car, show
LOCATION:lumpkin County Middle School upper parking lot
WEBSITE:http://lumpkin.ga.lcm.schoolinsites.com/?PageName='Directions'
URL:http://lumpkin.ga.lcm.schoolinsites.com/?PageName='Directions'
CONTACT:(706) 265-5263
ORGANIZER;CN="Riley Matthew Ray":https://www.southeastwheelsevents.com
 /profile/RileyMatthewRay
ATTACH;FMTTYPE="image/jpeg":http://storage.ning.com/topology/rest/1.0/
 file/get/967599100?profile=original
ATTENDEE;ROLE=REQ-PARTICIPANT;PARTSTAT=ACCEPTED;RSVP=TRUE;CN="Riley Ma
 tthew Ray":https://www.southeastwheelsevents.com/profile/RileyMatthewR
 ay
END:VEVENT
END:VCALENDAR
