BEGIN:VCALENDAR
PRODID:NingEventWidget-v1
VERSION:2.0
METHOD:PUBLISH
BEGIN:VTIMEZONE
TZID:Pacific/Midway
X-LIC-LOCATION:Pacific/Midway
BEGIN:STANDARD
TZOFFSETFROM:-1100
TZOFFSETTO:-1100
TZNAME:SST
DTSTART:19700101T000000
END:STANDARD
END:VTIMEZONE
BEGIN:VEVENT
UID:5072275:Event:1100892
DTSTAMP:20260422T223726Z
SUMMARY:Lynchburg Whiskey Runners 13th Annual Cruisin - Lynchburg,TN
DESCRIPTION:Lynchburg Whiskey Runners Annual Cruisin the Hollow at Wis
 eman Park.\r\n\n\nFor more information visit https://www.southeastwhee
 lsevents.com/events/lynchburg-whiskey-runners-13th-annual-cruisin-lync
 hburg-tn
DTSTART;TZID=Pacific/Midway:20221001T100000
DTEND;TZID=Pacific/Midway:20221001T140000
CATEGORIES:car, show, cruise, in
LOCATION:Wiseman Park,
WEBSITE:http://whiskeyrunners.net
URL:http://whiskeyrunners.net
CONTACT:(931) 703-2644
ORGANIZER:Rick Cook
ATTACH;FMTTYPE="image/jpeg":http://storage.ning.com/topology/rest/1.0/
 file/get/967799110?profile=original
ATTENDEE;ROLE=REQ-PARTICIPANT;PARTSTAT=ACCEPTED;RSVP=TRUE;CN="Anthony 
 Hopkins":https://www.southeastwheelsevents.com/profile/AnthonyHopkins
END:VEVENT
END:VCALENDAR
