BEGIN:VCALENDAR
PRODID:NingEventWidget-v1
VERSION:2.0
METHOD:PUBLISH
BEGIN:VTIMEZONE
TZID:Pacific/Midway
X-LIC-LOCATION:Pacific/Midway
BEGIN:STANDARD
TZOFFSETFROM:-1100
TZOFFSETTO:-1100
TZNAME:SST
DTSTART:19700101T000000
END:STANDARD
END:VTIMEZONE
BEGIN:VEVENT
UID:5072275:Event:701249
DTSTAMP:20260420T135638Z
SUMMARY:Madison Street Festival Car Show, Madison, AL
DESCRIPTION:Annual Madison Street Festival Car Show on Saturday, from 
 9 to 2 in downtown Madison, AL\r\n\n\nFor more information visit https
 ://www.southeastwheelsevents.com/events/madison-street-festival-car-sh
 ow-madison-al-1
DTSTART;TZID=Pacific/Midway:20171007T090000
DTEND;TZID=Pacific/Midway:20171007T140000
CATEGORIES:festival, "&amp", car, show
LOCATION:Madison, AL
WEBSITE:http://www.madisonstreetfestival.org
URL:http://www.madisonstreetfestival.org
CONTACT:256-679-2055
ORGANIZER;CN="Ted Whitney":https://www.southeastwheelsevents.com/profi
 le/TedWhitney
ATTACH;FMTTYPE="image/jpeg":http://storage.ning.com/topology/rest/1.0/
 file/get/967645309?profile=original
ATTENDEE;ROLE=REQ-PARTICIPANT;PARTSTAT=ACCEPTED;RSVP=TRUE;CN="Ted Whit
 ney":https://www.southeastwheelsevents.com/profile/TedWhitney
END:VEVENT
END:VCALENDAR
