BEGIN:VCALENDAR
PRODID:NingEventWidget-v1
VERSION:2.0
METHOD:PUBLISH
BEGIN:VTIMEZONE
TZID:Pacific/Midway
X-LIC-LOCATION:Pacific/Midway
BEGIN:STANDARD
TZOFFSETFROM:-1100
TZOFFSETTO:-1100
TZNAME:SST
DTSTART:19700101T000000
END:STANDARD
END:VTIMEZONE
BEGIN:VEVENT
UID:5072275:Event:1056931
DTSTAMP:20260423T201444Z
SUMMARY:MadLife Studios for Hellbender's Bike Night
DESCRIPTION:Come out to MadLife Studios for Hellbender's Bike Night. Y
 ou will have a chance to Register To Win a Harley-Davidson Motorcycle!
  We will have a bike night at MadLife Studios every third Wednesday of
  the month! if you have any questions, please call 770-919-0000 or ema
 il us at marketing@hellbenderhd.com\n\nFor more information visit http
 s://www.southeastwheelsevents.com/events/madlife-studios-for-hellbende
 r-s-bike-night-1
DTSTART;TZID=Pacific/Midway:20170816T190000
DTEND;TZID=Pacific/Midway:20170816T220000
CATEGORIES:bike, night
LOCATION:MadLife Stage & Studios
WEBSITE:
URL:
CONTACT:770-919-0000
ORGANIZER:Hellbender Harley-Davidson®
ATTACH;FMTTYPE="image/jpeg":http://storage.ning.com/topology/rest/1.0/
 file/get/967750348?profile=original
ATTENDEE;ROLE=REQ-PARTICIPANT;PARTSTAT=ACCEPTED;RSVP=TRUE;CN="Lee Gosn
 ey":https://www.southeastwheelsevents.com/profile/LeeGosney
END:VEVENT
END:VCALENDAR
