BEGIN:VCALENDAR
PRODID:NingEventWidget-v1
VERSION:2.0
METHOD:PUBLISH
BEGIN:VTIMEZONE
TZID:Pacific/Midway
X-LIC-LOCATION:Pacific/Midway
BEGIN:STANDARD
TZOFFSETFROM:-1100
TZOFFSETTO:-1100
TZNAME:SST
DTSTART:19700101T000000
END:STANDARD
END:VTIMEZONE
BEGIN:VEVENT
UID:5072275:Event:1059441
DTSTAMP:20260419T052225Z
SUMMARY:Maggie Valley Summer Rally -Maggie Valley  NC
DESCRIPTION:\n\nFor more information visit https://www.southeastwheels
 events.com/events/maggie-valley-summer-rally-maggie-valley-nc-1
DTSTART;TZID=Pacific/Midway:20170817T000000
DTEND;TZID=Pacific/Midway:20170819T235900
CATEGORIES:motorcycle, bike, festival, benefit, show
LOCATION:Maggie Valley Festival Grounds
WEBSITE:http://www.maggievalleyrallys.com/
URL:http://www.maggievalleyrallys.com/
CONTACT:Sonny - 336-680-1638
ORGANIZER:Noble County Independent Bikers
ATTACH;FMTTYPE="image/jpeg":http://storage.ning.com/topology/rest/1.0/
 file/get/967750209?profile=original
ATTENDEE;ROLE=REQ-PARTICIPANT;PARTSTAT=ACCEPTED;RSVP=TRUE;CN="Chuck Aa
 ron":https://www.southeastwheelsevents.com/profile/ChuckAaron886
END:VEVENT
END:VCALENDAR
