BEGIN:VCALENDAR
PRODID:NingEventWidget-v1
VERSION:2.0
METHOD:PUBLISH
BEGIN:VTIMEZONE
TZID:Pacific/Midway
X-LIC-LOCATION:Pacific/Midway
BEGIN:STANDARD
TZOFFSETFROM:-1100
TZOFFSETTO:-1100
TZNAME:SST
DTSTART:19700101T000000
END:STANDARD
END:VTIMEZONE
BEGIN:VEVENT
UID:5072275:Event:1056469
DTSTAMP:20260423T215102Z
SUMMARY:Maggie Valley Swap Meet -Maggie Valley NC
DESCRIPTION:\n\nFor more information visit https://www.southeastwheels
 events.com/events/maggie-valley-swap-meet-3
DTSTART;TZID=Pacific/Midway:20170928T000000
DTEND;TZID=Pacific/Midway:20170930T235900
CATEGORIES:swap, meet, car, bike, show
LOCATION:Maggie Valley Festival Grounds
WEBSITE:http://www.maggievalleyswapmeet.com
URL:http://www.maggievalleyswapmeet.com
CONTACT:Rodney 423-608-4519
ORGANIZER:Surfboard Productions
ATTACH;FMTTYPE="image/jpeg":http://storage.ning.com/topology/rest/1.0/
 file/get/967746186?profile=original
ATTENDEE;ROLE=REQ-PARTICIPANT;PARTSTAT=ACCEPTED;RSVP=TRUE;CN="rodney b
 uckner":https://www.southeastwheelsevents.com/profile/rodneybuckner
END:VEVENT
END:VCALENDAR
