BEGIN:VCALENDAR
PRODID:NingEventWidget-v1
VERSION:2.0
METHOD:PUBLISH
BEGIN:VTIMEZONE
TZID:Pacific/Midway
X-LIC-LOCATION:Pacific/Midway
BEGIN:STANDARD
TZOFFSETFROM:-1100
TZOFFSETTO:-1100
TZNAME:SST
DTSTART:19700101T000000
END:STANDARD
END:VTIMEZONE
BEGIN:VEVENT
UID:5072275:Event:124983
DTSTAMP:20260419T011016Z
SUMMARY:Magical Nights of Lights -Lake Lanier Island, GA
DESCRIPTION:Light up your Vacation with Lake Lanier Islands Resort\nEn
 joy the World’s Largest Light Extravaganza: Magical Nights of Lights
 \n\nRekindle an old tradition or create a new one at Lake Lanier Islan
 ds Resort’s Magical Nights of Lights holiday celebration. A seven-mi
 le drive through tour of animated, festive, holiday light displays. At
  the end of your tour, the Holiday Village awaits you with carnival ri
 des and games, pony rides and numerous holiday treats. Warm up with a 
 hot cup of cocoa or step inside Santa’s Workshop for some holiday sh
 opping and a visit with Santa.\n\nAnd nothing gets you in the holiday 
 spirit like a visit to Legacy Lodge & Conference Center for a delectab
 le Magical Nights of Lights dinner buffet, or stay the night so the ki
 ds can enjoy the time honored tradition of having Breakfast with Santa
 .\nDates November 20 - December 30, 2010, including holidays.\nTimes N
 ightly 5 p.m. - 10 p.m.\n2010 PRICING\n\nCars (1-9 passenger capacity)
  $40.00\nMonday - Thursday Excludes: November 25th and December 20th -
  25th - $60.00 Friday - Sunday Includes: November 25th and December 20
 th - 25th\nVans (10-19 passenger capacity) $90.00\nBuses (20+ passenge
 r capacity) $250.00\n\nFor more information visit https://www.southeas
 twheelsevents.com/events/magical-nights-of-lights-lake
DTSTART;TZID=Pacific/Midway:20101201T170000
DTEND;TZID=Pacific/Midway:20101230T220000
CATEGORIES:christmas-light, -show
LOCATION:Lake Lanier Island
WEBSITE:http://www.lakelanierislands.com/mnol.php
URL:http://www.lakelanierislands.com/mnol.php
CONTACT:770.945.8787
ORGANIZER:Lake Lanier Island
ATTACH;FMTTYPE="image/jpeg":http://storage.ning.com/topology/rest/1.0/
 file/get/967585564?profile=original
ATTENDEE;ROLE=REQ-PARTICIPANT;PARTSTAT=ACCEPTED;RSVP=TRUE;CN="Greg Fos
 ter":https://www.southeastwheelsevents.com/profile/GregFoster
ATTENDEE;ROLE=REQ-PARTICIPANT;PARTSTAT=ACCEPTED;RSVP=TRUE;CN="Michael 
 Thies":https://www.southeastwheelsevents.com/profile/MichaelThies
END:VEVENT
END:VCALENDAR
