BEGIN:VCALENDAR
PRODID:NingEventWidget-v1
VERSION:2.0
METHOD:PUBLISH
BEGIN:VTIMEZONE
TZID:Pacific/Midway
X-LIC-LOCATION:Pacific/Midway
BEGIN:STANDARD
TZOFFSETFROM:-1100
TZOFFSETTO:-1100
TZNAME:SST
DTSTART:19700101T000000
END:STANDARD
END:VTIMEZONE
BEGIN:VEVENT
UID:5072275:Event:16485
DTSTAMP:20260422T005636Z
SUMMARY:Main Street Classic & Open Car Show -McDonough, GA
DESCRIPTION:Main Street Classic & Open Car Show -McDonough, GA\nInfo L
 inda Shank 770-898-9868\n\nFor more information visit https://www.sout
 heastwheelsevents.com/events/main-street-classic-open-car
DTSTART;TZID=Pacific/Midway:20100417T110000
DTEND;TZID=Pacific/Midway:20100417T170000
CATEGORIES:car-show
LOCATION:Downtown
WEBSITE:
URL:
CONTACT:Linda Shank 770-898-9868
ORGANIZER:Linda Shank
ATTACH;FMTTYPE="image/jpeg":http://storage.ning.com/topology/rest/1.0/
 file/get/967575829?profile=original
ATTENDEE;ROLE=REQ-PARTICIPANT;PARTSTAT=ACCEPTED;RSVP=TRUE;CN="Michael 
 Thies":https://www.southeastwheelsevents.com/profile/MichaelThies
END:VEVENT
END:VCALENDAR
