BEGIN:VCALENDAR
PRODID:NingEventWidget-v1
VERSION:2.0
METHOD:PUBLISH
BEGIN:VTIMEZONE
TZID:Pacific/Midway
X-LIC-LOCATION:Pacific/Midway
BEGIN:STANDARD
TZOFFSETFROM:-1100
TZOFFSETTO:-1100
TZNAME:SST
DTSTART:19700101T000000
END:STANDARD
END:VTIMEZONE
BEGIN:VEVENT
UID:5072275:Event:534500
DTSTAMP:20260421T070443Z
SUMMARY:Newland Toys For Tots Car Show -Newland, SC
DESCRIPTION:Newland Car Show -Newland, SC\n\nFor more information visi
 t https://www.southeastwheelsevents.com/events/main-street-cruise-in-c
 ar-show-newland-sc
DTSTART;TZID=Pacific/Midway:20160704T090000
DTEND;TZID=Pacific/Midway:20160704T160000
CATEGORIES:car-show
LOCATION:Rock Gym
WEBSITE:
URL:
CONTACT:Claude Buchanan 828-733-3558
ORGANIZER:Newland, SC
ATTACH;FMTTYPE="image/jpeg":http://storage.ning.com/topology/rest/1.0/
 file/get/967618543?profile=original
ATTENDEE;ROLE=REQ-PARTICIPANT;PARTSTAT=ACCEPTED;RSVP=TRUE;CN="Jack Tho
 mas":https://www.southeastwheelsevents.com/profile/JackThomas
ATTENDEE;ROLE=REQ-PARTICIPANT;PARTSTAT=ACCEPTED;RSVP=TRUE;CN="Chuck Aa
 ron":https://www.southeastwheelsevents.com/profile/ChuckAaron
END:VEVENT
END:VCALENDAR
