BEGIN:VCALENDAR
PRODID:NingEventWidget-v1
VERSION:2.0
METHOD:PUBLISH
BEGIN:VTIMEZONE
TZID:Pacific/Midway
X-LIC-LOCATION:Pacific/Midway
BEGIN:STANDARD
TZOFFSETFROM:-1100
TZOFFSETTO:-1100
TZNAME:SST
DTSTART:19700101T000000
END:STANDARD
END:VTIMEZONE
BEGIN:VEVENT
UID:5072275:Event:1013142
DTSTAMP:20260420T073901Z
SUMMARY:Mammary Lane Car Museum
DESCRIPTION:Memory Lane is donating all proceeds during October to hel
 p fight breast cancer.  Come support our efforts\n\nFor more informat
 ion visit https://www.southeastwheelsevents.com/events/mammary-lane-ca
 r-museum-1
DTSTART;TZID=Pacific/Midway:20161007T000000
DTEND;TZID=Pacific/Midway:20161031T235900
CATEGORIES:benefit, for, breast, cancer
LOCATION:Memory Lane Car Museum
WEBSITE:
URL:
CONTACT:6788997888
ORGANIZER;CN="Memory Lane Classic Car Museum":https://www.southeastwhe
 elsevents.com/profile/MemoryLaneClassicCarMuseum
ATTACH;FMTTYPE="image/jpeg":
ATTENDEE;ROLE=REQ-PARTICIPANT;PARTSTAT=ACCEPTED;RSVP=TRUE;CN="Memory L
 ane Classic Car Museum":https://www.southeastwheelsevents.com/profile/
 MemoryLaneClassicCarMuseum
END:VEVENT
END:VCALENDAR
