BEGIN:VCALENDAR
PRODID:NingEventWidget-v1
VERSION:2.0
METHOD:PUBLISH
BEGIN:VTIMEZONE
TZID:Pacific/Midway
X-LIC-LOCATION:Pacific/Midway
BEGIN:STANDARD
TZOFFSETFROM:-1100
TZOFFSETTO:-1100
TZNAME:SST
DTSTART:19700101T000000
END:STANDARD
END:VTIMEZONE
BEGIN:VEVENT
UID:5072275:Event:1031217
DTSTAMP:20260424T020006Z
SUMMARY:MARDI GRAS Bike Night
DESCRIPTION:Mardi Gras Bike Night. Join Us Adamec Harley-davidson of O
 range Park, Friday Febuary 3rd 6-9 pm. Mardi Gras Bike Night. Gumbo â€
 ¢ Beads â€¢ Music â€¢ Poker Chip Draw â€¢ $100 Cash Best Bike Club Att
 endance Performance Workshop 7-8 pm.\n\nFor more information visit htt
 ps://www.southeastwheelsevents.com/events/mardi-gras-bike-night
DTSTART;TZID=Pacific/Midway:20170203T180000
DTEND;TZID=Pacific/Midway:20170203T210000
CATEGORIES:motorcycles, "clubs/shows/cruises"
LOCATION:Adamec Harley-Davidson of Orange Park
WEBSITE:https://www.facebook.com/events/1113109682148868/
URL:https://www.facebook.com/events/1113109682148868/
CONTACT:
ORGANIZER:Adamec Harley-Davidson of Orange Park
ATTACH;FMTTYPE="image/jpeg":
ATTENDEE;ROLE=REQ-PARTICIPANT;PARTSTAT=ACCEPTED;RSVP=TRUE;CN="Christop
 her Gosney":https://www.southeastwheelsevents.com/profile/ChristopherG
 osney
END:VEVENT
END:VCALENDAR
